Workbook

Sheet DATABASE
A1: Perenimi | B1: Eesnimi | C1: Sugu | D1: Elukoht | E1: Töölevõtt | F1: Palk
A2: Kuusk | B2: Aadu | C2: M | D2: Paide | E2: 24879 | F2: 4500
A3: Kask | B3: Eedi | C3: M | D3: Tartu | E3: 22505 | F3: 4333
A4: Mänd | B4: Aare | C4: M | D4: Tallinn | E4: 26645 | F4: 3210
A5: Haab | B5: Maali | C5: N | D5: Viljandi | E5: 27098 | F5: 543
A6: Kivi | B6: Kalle | C6: M | D6: Viljandi | E6: 27831 | F6: 456
A7: Pärn | B7: Margus | C7: M | D7: Tartu | E7: 28561 | F7: 678
A8: Kivi | B8: Kalle | C8: M | D8: Tartu | E8: 32854 | F8: 12
A9: Mare | B9: Sõnajalg | C9: N | D9: Viljandi | E9: 33921 | F9: 7777
A10: Torim | B10: Eve | C10: N | D10: Pärnu | E10: 33922 | F10: 7777
A11: Kuusk | B11: Aadu | C11: M | D11: Pärnu | E11: 17852 | F11: 3456
A12: Pärn | B12: Vambola | C12: M | D12: Pärnu | E12: 25523 | F12: 4566
A13: Kuusk | B13: Vambola | C13: M | D13: Viljandi | E13: 24879 | F13: 4500
... A23: Pärn | B23: Aadu | C23: M | D23: Viljandi | E23: 25523 | F23: 4566
A27: Tallinn
A28: Tartu
A29: Viljandi
A30: Paide
A31: Pärnu

Sheet taimed
A1: Saadud andmed oleks vaja viia sellisele kujule
B4: Nisu | C4: Raps | D4: Kapsas | E4: Ristik | F4: Kokku
A5: Harju
A6: Hiiu
A7: Ida-Viru
A8: Jōgeva
A9: Järva
A10: Lääne
A11: Lääne-Viru
A12: Pōlva
A13: Pärnu
A14: Rapla
A15: Saare
A16: Tartu
... A22: Andmed saadud kujul
A23: Nisu kokku | B23: =SUM(B24:B30) -> 171
A24: Harju | B24: 25
A25: Hiiu | B25: 3
A26: Ida-Viru | B26: 12
A27: Jōgeva | B27: 14
A28: Lääne-Viru | B28: 56
A29: Pōlva | B29: 29
A30: Vōru | B30: 32
A32: Raps kokku | B32: =SUM(B33:B37) -> 220
A33: Harju | B33: 40
A34: Jōgeva | B34: 70
A35: Tartu | B35: 65
A36: Viljandi | B36: 17
A37: Vōru | B37: 28
A39: Kapsas kokku | B39: =SUM(B40:B43) -> 140
A40: Harju | B40: 66
A41: Ida-Viru | B41: 18
A42: Tartu | B42: 32
A43: Viljandi | B43: 24
A45: Valge ristik | B45: =SUM(B46:B47) -> 130
A46: Harju | B46: 100
A47: Ida-Viru | B47: 30
A49: Roosa ristik | B49: =SUM(B50:B53) -> 335
A50: Ida-Viru | B50: 60
A51: Jōgeva | B51: 80
...

Sheet M_I
B2: Kood | C2: Nimetus | D2: Pk | E2: Müüd.kogus | F2: Ostuhind | G2: Real.hind
B3: 22201 | C3: Kalapulgad 250 g Esva | D3: 10 | E3: 8138 | F3: 51371.85 | G3: 27160.6
B4: 22202 | C4: Kalapulgad lahtised Esva | D4: 5 | E4: 760 | F4: 19190 | G4: 9200.8 | I4: Kood | J4: Asi | K4: Vastus
B5: 22203 | C5: Kalapulgad SILVER 250g E | D5: 10 | E5: 1401 | F5: 11000.65 | G5: 7632 | K5: ???
B6: 22204 | C6: Kalaburger suur laht.Esva | D6: 5 | E6: 275 | F6: 6867.5 | G6: 2671.2
B7: 22205 | C7: Kalaburger väike laht.Es | D7: 5 | E7: 550 | F7: 13908.15 | G7: 8458.8
B8: 22206 | C8: Kalaburger s.500g kil. Es | D8: 18 | E8: 164 | F8: 2369.3 | G8: 2150.4
B9: 22207 | C9: Kalabur.juurvilja 550g Es | D9: 16 | E9: 205 | F9: 3534.2 | G9: 2901.45
B10: 22208 | C10: Kalaburger suur 250g Esva | D10: 10 | E10: 40 | F10: 314 | G10: 339.2
B11: 22209 | C11: Külmut.Mintai filee Esva | D11: 5 | E11: 40.5 | F11: 1986.5 | G11: 2146.5
B12: 22210 | C12: Suupistekala laht. Esva | D12: 5 | E12: 10 | F12: 441.5 | G12: 238.5
B13: 22212 | C13: Kalapulgad kiles 500g Es | D13: 18 | E13: 283 | F13: 3896.95 | G13: 3242.4
B14: 22213 | C14: Kalaburger väike 350g Esv | D14: 25 | E14: 277 | F14: 2801.85 | G14: 3307.4
B15: 22214 | C15: Krevetid taignas 200G | D15: 40 | E15: 23 | F15: 407.3 | G15: 438.9
B16: 22216 | C16: Kala-juurvilja burg.laht. | D16: 5 | E16: 95 | F16: 2618.9 | G16: 1929.2
B17: 22217 | C17: Kalakuubikud 400g | D17: 23 | E17: 128 | F17: 2768.4 | G17: 2984.9
... B25: 22228 | C25: Pan.kalapala kiles 310g | D25: 30 | E25: 118 | F25: 1353.7 | G25: 1745.2
C27: Väljaminekud kokku: | E27: 13344 | F27: 145680.35 | G27: 94452.45

Sheet Sugu_Vanus
A1: Isikukood | B1: Vanus | C1: Sugu
A2: 60302085229 | B2: =INT((TODAY()-(MID(A2,6,2)&"/"&MID(A2,4,2)&"/"&IF(OR(VALUE(LEFT(A2,1))=3,VALUE(LEFT(A2,1))=4),19&MID(A2,2,2),20&MID(A2,2,2))))/365.25) -> 23 | C2: =IF(OR(VALUE(LEFT(A2,1))=3,VALUE(LEFT(A2,1))=5),"M","N") -> N
A3: 49605251914 | B3: =INT((TODAY()-(MID(A3,6,2)&"/"&MID(A3,4,2)&"/"&IF(OR(VALUE(LEFT(A3,1))=3,VALUE(LEFT(A3,1))=4),19&MID(A3,2,2),20&MID(A3,2,2))))/365.25) -> 29 | C3: =IF(OR(VALUE(LEFT(A3,1))=3,VALUE(LEFT(A3,1))=5),"M","N") -> N
A4: 50003280131 | B4: =INT((TODAY()-(MID(A4,6,2)&"/"&MID(A4,4,2)&"/"&IF(OR(VALUE(LEFT(A4,1))=3,VALUE(LEFT(A4,1))=4),19&MID(A4,2,2),20&MID(A4,2,2))))/365.25) -> 25 | C4: =IF(OR(VALUE(LEFT(A4,1))=3,VALUE(LEFT(A4,1))=5),"M","N") -> M
A5: 37407280315 | B5: =INT((TODAY()-(MID(A5,6,2)&"/"&MID(A5,4,2)&"/"&IF(OR(VALUE(LEFT(A5,1))=3,VALUE(LEFT(A5,1))=4),19&MID(A5,2,2),20&MID(A5,2,2))))/365.25) -> 51 | C5: =IF(OR(VALUE(LEFT(A5,1))=3,VALUE(LEFT(A5,1))=5),"M","N") -> M
A6: 48606052249 | B6: =INT((TODAY()-(MID(A6,6,2)&"/"&MID(A6,4,2)&"/"&IF(OR(VALUE(LEFT(A6,1))=3,VALUE(LEFT(A6,1))=4),19&MID(A6,2,2),20&MID(A6,2,2))))/365.25) -> 39 | C6: =IF(OR(VALUE(LEFT(A6,1))=3,VALUE(LEFT(A6,1))=5),"M","N") -> N
A7: 60111290223 | B7: =INT((TODAY()-(MID(A7,6,2)&"/"&MID(A7,4,2)&"/"&IF(OR(VALUE(LEFT(A7,1))=3,VALUE(LEFT(A7,1))=4),19&MID(A7,2,2),20&MID(A7,2,2))))/365.25) -> 24 | C7: =IF(OR(VALUE(LEFT(A7,1))=3,VALUE(LEFT(A7,1))=5),"M","N") -> N
B11: uus valem
A12: 60111290223 | B12: =INT((TODAY()-DATE(IF(VALUE(LEFT(A12;1))<=4;1900;2000)+MID(A12;2;2);MID(A12;4;2);MID(A12;6;2)))/365,25)

Sheet   

Sheet Fstuud
J2: 800
A3: Klient:
A4: Kontaktisik: | K4: 3.22
A5: Tel: | K5: 0.5
K6: 1.05
A8: Hinnapakkumine:
A9: OBJEKT: | E9: Kuupäev:
A11: Nr | B11: Nimetus | C11: Hulk | D11: Ühik | E11: Ühiku hind | F11: Materjali maksumus | G11: ostuhind | H11: transport | I11: om.hind | J11: vahe | K11: kasum
A12: 1 | F12: =C12*E12 -> 0
A13: 2 | F13: =C13*E13 -> 0 | G13: 30 | H13: 2.8 | I13: =G13+H13 -> 32.8 | J13: =E13-I13 -> -32.8 | K13: =C13*J13 -> 0
A14: 3 | F14: =C14*E14 -> 0 | G14: 77.39 | H14: -1 | I14: =G14+H14 -> 76.39 | J14: =E14-I14 -> -76.39 | K14: =C14*J14 -> 0
A15: 4 | F15: =C15*E15 -> 0
A16: 5 | F16: =C16*E16 -> 0
A17: 6 | F17: =C17*E17 -> 0
F18: =C18*E18 -> 0
F19: =C19*E19 -> 0
G20: 0 | H20: 0 | I20: =G20+H20 -> 0 | J20: 0 | K20: =C20*J20 -> 0
E22: Kokku: | F22: =SUM(F12:F20) -> 0 | K22: =SUM(K12:K20) -> 0
E23: Summa ilma käibemaksuta: | F23: =SUM(F22:F22) -> 0
E24: Käibemaks 24%: | F24: =0.24*F23 -> 0
E25: Üldsumma: | F25: =SUM(F23:F24) -> 0
A31: Tarne 6-7 nädalat tellimusest, muu 14 päeva
A32: Hinnad sisaldavad materjalide transporti.
A33: muudele toodetele kehtib transpordi hind 250eur/kompl
A34: Materjalidele lisanduvad kõik vajalikud sertifikaadid ja vastavusdeklaratsioonid
A35: Pakutud materjalidele anname 24 kuulise garantii
A36: Hinnapakkumine kehtib 10 päeva
A37: Hinnapakkumise sobivuse korral esitada kinnitus enne hinnapakkumise kehtivuse lõppu
A38: Maksetingimused kokkuleppel

Sheet Fstuud_Andmed
A1: Süsteem | B1: Nimi | C1: Kontroll | D1: Materjal | E1: Ühik | F1: Ühiku hind
A2: R65 | B2: üp uks kitsaspr M 11 * 21 | C2: =A2&B2 -> R65üp uks kitsaspr M 11 * 21 | D2: alu | E2: Tk | F2: 4719
A3: R65 | B3: +10 cm laius üp uks kitsaspr M 11 * 21 | C3: =A3&B3 -> R65+10 cm laius üp uks kitsaspr M 11 * 21 | D3: teras | E3: Mm | F3: 95
A4: R65 | B4: +10 cm kõrgus üp uks kitsaspr M 11 * 21 | C4: =A4&B4 -> R65+10 cm kõrgus üp uks kitsaspr M 11 * 21 | D4: puit | E4: Cm | F4: 122
A5: R65 | B5: üp uks moodul M 11 * 21 | C5: =A5&B5 -> R65üp uks moodul M 11 * 21 | D5: alu | E5: Tk | F5: 5300
A6: R65 | B6: +10 cm laius üp uks moodul M 11 * 21 | C6: =A6&B6 -> R65+10 cm laius üp uks moodul M 11 * 21 | D6: teras | E6: Mm | F6: 108
A7: R65 | B7: +10 cm kõrgus üp uks moodul M 11 * 21 | C7: =A7&B7 -> R65+10 cm kõrgus üp uks moodul M 11 * 21 | D7: puit | E7: Cm | F7: 134
A8: R65 | B8: üp näpukaitse lisa | C8: =A8&B8 -> R65üp näpukaitse lisa | D8: alu | E8: Tk | F8: 385
A9: R65 | B9: kp uks kitsaspr M 11 * 21 | C9: =A9&B9 -> R65kp uks kitsaspr M 11 * 21 | D9: teras | E9: Mm | F9: 8255
A10: R65 | B10: +10 cm laius kp uks kitsaspr M 11 * 21 | C10: =A10&B10 -> R65+10 cm laius kp uks kitsaspr M 11 * 21 | D10: puit | E10: Cm | F10: 91
A11: R65 | B11: +10 cm kõrgus kp uks kitsaspr M 11 * 21 | C11: =A11&B11 -> R65+10 cm kõrgus kp uks kitsaspr M 11 * 21 | D11: alu | E11: Tk | F11: 181
A12: R65 | B12: kp uks moodul M 11 * 21 | C12: =A12&B12 -> R65kp uks moodul M 11 * 21 | D12: teras | E12: Mm | F12: 9542
A13: R65 | B13: +10 cm laius kp uks moodul M 11 * 21 | C13: =A13&B13 -> R65+10 cm laius kp uks moodul M 11 * 21 | D13: puit | E13: Cm | F13: 103
... A127: SP3500 | B127: Üp kitsas 11*21 SP 35 000 E30 | C127: =A127&B127 -> SP3500Üp kitsas 11*21 SP 35 000 E30 | D127: puit | E127: Mm | F127: 22.967033

Sheet    

Sheet Ülesanne
D2: Ülesanne
C4: 1. | D4: Kuidas võetakse sularaha kontorist vanusegruppide lõikes.
D5: - alla 50 (ka. 50)
D6: - 51-60
D7: - 61-70
D8: - 71-90
D9: - üle 90
C10: 1) | D10: Vanusegruppide lõikes tuua välja tehingud kokku ning
D11: summad kokku, samuti mõlemal juhul proportsioonid
D12: vanusegrupiti. (soovitav teha ka graafik)
C13: 2) | D13: Kas väide, et alla 50 aastased mehed käivad rohkem
D14: kontorist sularaha välja võtmas kui naised, on tõene?
D15: (sh. näita nende omavaheline proportsioon)
C18: 2. | D18: Kuidas võetakse sularaha kontorist kliendisegmentide lõikes.
D19: - Püsiklient
D20: - Ostujõuline
D21: - Võtmeklient
D22: - Personaalklient
D23: - FIE
C24: 1) | D24: Kliendisegmentide lõikes tuua välja tehingud kokku ning
D25: summad kokku, samuti mõlemal juhul proportsioonid
D26: segmenditi.
C27: 2) | D27: Kas väide, et kontorist sularaha väljavõtvad võtmekliendid
D28: omavad üldjuhul kaarti, on tõene?
D29: (sh. näita võtmeklientidest kaardiomanike ja mitteomanike
D30: omavaheline proportsioon). Näita ka graafikult.
C31: 3) | D31: Millises kontoris käib kõige rohkem üle 90-aastaseid
D32: sularahaväljavõtjaid? Too välja osakaal kogu kontorivõrgust.
C35: 3. | D35: Tee raport, kus oleksid näha kontorid, segmendid ning
D36: keskmine väljavõtu summa kliendi kohta.
D37: Tee ka graafik kontorivõrgu keskmise kohta segmenditi.
B39: Palun näidata ülesannete lahendusetapid.

Sheet S_K
A1: Segment | B1: Kood
A2: Püsiklient | B2: 1
A3: Võtmeklient | B3: 2
A4: FIE | B4: 3
A5: Ostujõuline | B5: 4
A6: Personaalklient | B6: 5

Sheet Y1
A1: Isikukood | B1: Kontor | C1: Segment | D1: Tehingute maht/ käive | E1: Tehingute arv | F1: Deebetkaardi olemasolu | S1: Tehingute maht | U1: Tehingute arv
A2: 31404040293 | B2: Rüütli | C2: 1 | D2: 75595 | E2: 2135 | F2: Ei | I2: - üle 61 (ka. 61) | N2: Tehingute maht/ käive | O2: =D78 -> 48862 | P2: mehed | Q2: =O2/O4 -> 0.88688423 | R2: üle 61 | S2: =O4 -> 55094 | T2: üle 61 | U2: =O7 -> 2390
A3: 32412036526 | B3: Järve | C3: 1 | D3: 9700 | E3: 770 | F3: On | I3: =SUMIF(J3:J6,) -> 0 | O3: =D2136 -> 6232 | P3: naised | Q3: =O3/O4 -> 0.11311577 | R3: 41-60 | S3: =O11 -> 49830 | T3: 41-60 | U3: =O14 -> 2712
A4: 32504050278 | B4: Haapsalu | C4: 1 | D4: 3530 | E4: 145 | F4: On | N4: Kokku | O4: =SUM(O2:O3) -> 55094 | R4: 31-40 | S4: =O18 -> 37066 | T4: 31-40 | U4: =O21 -> 2070
A5: 32702280283 | B5: Võru | C5: 1 | D5: 2520 | E5: 35 | F5: On | N5: Tehingute arv | O5: =E78 -> 1970 | P5: mehed | Q5: =O5/O7 -> 0.82426778 | R5: 21-30 | S5: =O25 -> #REF! | T5: 21-30 | U5: =O28 -> #REF!
A6: 32807180292 | B6: Võru | C6: 1 | D6: 4220 | E6: 223 | F6: Ei | O6: =E2136 -> 420 | P6: naised | Q6: =O6/O7 -> 0.17573222
A7: 33008230314 | B7: Barclay | C7: 1 | D7: 5500 | E7: 345 | F7: On | N7: Kokku | O7: =SUM(O5:O6) -> 2390
A8: 33105250281 | B8: Räpina | C8: 1 | D8: 13000 | E8: 1010 | F8: On
A9: 33203130235 | B9: Liivalaia | C9: 1 | D9: 3014 | E9: 75 | F9: On | I9: - 41-60 | N9: Tehingute maht/ käive | O9: =D837 -> 38020 | P9: mehed | Q9: =O9/O11 -> 0.76299418
A10: 33209200275 | B10: Tammelinna | C10: 1 | D10: 11520 | E10: 910 | F10: On | O10: =D3184 -> 11810 | P10: naised | Q10: =O10/O11 -> 0.23700582
A11: 33302189517 | B11: Liivalaia | C11: 1 | D11: 12020 | E11: 930 | F11: On | N11: Kokku | O11: =SUM(O9:O10) -> 49830
A12: 33303270305 | B12: Vikerkaare | C12: 4 | D12: 25430 | E12: 1563 | F12: On | N12: Tehingute arv | O12: =E837 -> 1792 | P12: mehed | Q12: =O12/O14 -> 0.66076696
A13: 33303276529 | B13: Vikerkaare | C13: 1 | D13: 23054 | E13: 1480 | F13: On | O13: =E3184 -> 920 | P13: naised | Q13: =O13/O14 -> 0.33923304
A14: 33308090319 | B14: Jõhvi | C14: 4 | D14: 3257 | E14: 110 | F14: On | N14: Kokku | O14: =SUM(O12:O13) -> 2712
A15: 33404200028 | B15: Liivalaia | C15: 4 | D15: 18627 | E15: 1294 | F15: On
A16: 33410220277 | B16: Tammelinna | C16: 3 | D16: 2510 | E16: 34 | F16: On | I16: - 31-40 | N16: Tehingute maht/ käive | O16: =D1721 -> 5546 | P16: mehed | Q16: =O16/O18 -> 0.14962499
A17: 33511190288 | B17: Väike-Liivalaia | C17: 1 | D17: 5530 | E17: 360 | F17: On | O17: =D4015 -> 31520 | P17: naised | Q17: =O17/O18 -> 0.85037501
A18: 33601140287 | B18: Tapa | C18: 1 | D18: 9470 | E18: 735 | F18: On | N18: Kokku | O18: =SUM(O16:O17) -> 37066
A19: 33609010279 | B19: Võru | C19: 1 | D19: 26569 | E19: 1580 | F19: On | N19: Tehingute arv | O19: =E1721 -> 360 | P19: mehed | Q19: =O19/O21 -> 0.17391304
A20: 33612260239 | B20: Liivalaia | C20: 1 | D20: 16030 | E20: 1150 | F20: Ei | O20: =E4015 -> 1710 | P20: naised | Q20: =O20/O21 -> 0.82608696
A21: 33612290280 | B21: Järve | C21: 5 | D21: 3930 | E21: 180 | F21: On | N21: Kokku | O21: =SUM(O19:O20) -> 2070
A22: 33705200241 | B22: Liivalaia | C22: 1 | D22: 38530 | E22: 1800 | F22: On
A23: 33710020238 | B23: Liivalaia | C23: 1 | D23: 3015 | E23: 75 | F23: On | I23: - 21-30 | N23: Tehingute maht/ käive | O23: =D2077 -> 28020 | P23: mehed | Q23: =O23/O25 -> #REF!
A24: 33711290244 | B24: Liivalaia | C24: 4 | D24: 2120 | E24: 10 | F24: Ei | O24: =#REF! -> #REF! | P24: naised | Q24: =O24/O25 -> #REF!
A25: 33801120292 | B25: Rüütli | C25: 1 | D25: 9510 | E25: 745 | F25: On | N25: Kokku | O25: =SUM(O23:O24) -> #REF!
A26: 33804284252 | B26: Barclay | C26: 4 | D26: 265283 | E26: 2530 | F26: Ei | N26: Tehingute arv | O26: =E2077 -> 1610 | P26: mehed | Q26: =O26/O28 -> #REF!
A27: 33809070296 | B27: Narva | C27: 1 | D27: 130020 | E27: 2415 | F27: On | O27: =#REF! -> #REF! | P27: naised | Q27: =O27/O28 -> #REF!
A28: 33911266528 | B28: Pae | C28: 1 | D28: 9905 | E28: 780 | F28: On | N28: Kokku | O28: =SUM(O26:O27) -> #REF!
A29: 34002190224 | B29: Liivalaia | C29: 1 | D29: 3300 | E29: 112 | F29: Ei
A30: 34003180290 | B30: Kreutzwaldi | C30: 1 | D30: 2310 | E30: 23 | F30: On | I30: - alla 20 (ka. 20) | N30: Tehingute maht/ käive | P30: mehed
A31: 34009100261 | B31: Liivalaia | C31: 1 | D31: 19030 | E31: 1315 | F31: Ei | P31: naised
A32: 34109022780 | B32: Liivalaia | C32: 1 | D32: 3600 | E32: 153 | F32: On | N32: Tehingute arv | P32: mehed
A33: 34110290028 | B33: Liivalaia | C33: 1 | D33: 4510 | E33: 250 | F33: On | P33: naised
A34: 34111200275 | B34: Raeplatsi | C34: 1 | D34: 24010 | E34: 1510 | F34: Ei
A35: 34201134224 | B35: Liivalaia | C35: 1 | D35: 40030 | E35: 1830 | F35: On | I35: Väärtus 2 | J35: Vanus | N35: Tehingute maht >61
A36: 34201182761 | B36: Mere | C36: 3 | D36: 8200 | E36: 620 | F36: On | I36: 3 | J36: >60 | M36: M | N36: =DSUM($B$1:$F$4362,$D$1,I35:J36) -> 0 | O36: =N36/$N$38 -> #DIV/0!
A37: 34202100293 | B37: Kalda | C37: 1 | D37: 95910 | E37: 2311 | F37: Ei | I37: Väärtus 2 | J37: Vanus | M37: N | N37: =DSUM($B$1:$F$4362,$D$1,I37:J38) -> 0 | O37: =N37/$N$38 -> #DIV/0!
A38: 34202240335 | B38: Kalda | C38: 1 | D38: 9530 | E38: 760 | F38: On | I38: 4 | J38: >60 | M38: kokku | N38: =N36+N37 -> 0
A39: 34203070256 | B39: Pae | C39: 4 | D39: 25030 | E39: 1550 | F39: On
A40: 34204090218 | B40: Tammelinna | C40: 3 | D40: 6314 | E40: 425 | F40: On
...

Sheet Y2
A1: Isikukood | B1: Kontor | C1: Segment | D1: Tehingute maht/ käive | E1: Tehingute arv | F1: Deebetkaardi olemasolu | L1: Tehingute maht/ käive
A2: 44712130228 | B2: Kaubakeskuse | C2: 1 | D2: 2064 | E2: 1 | F2: On | I2: Segment | K2: 1 | L2: =D2987 -> 69219535 | M2: =L2/L7 -> 0.68633046 | N2: =SUMIF($C$2:$C$4375,K2,$D$2:$D$4375) -> 69219535
A3: 45408230250 | B3: Tapa | C3: 1 | D3: 2065 | E3: 1 | F3: Ei | I3: Segment | K3: 2 | L3: =D3210 -> 6297671 | M3: =L3/L7 -> 0.062443115 | N3: =SUMIF($C$2:$C$4375,K3,$D$2:$D$4375) -> 6297671
A4: 37312170252 | B4: Karlova | C4: 1 | D4: 2070 | E4: 1 | F4: Ei | I4: Segment | K4: 3 | L4: =D3442 -> 5059672 | M4: =L4/L7 -> 0.05016802 | N4: =SUMIF($C$2:$C$4375,K4,$D$2:$D$4375) -> 5059672
A5: 47105090256 | B5: Haapsalu | C5: 1 | D5: 2070 | E5: 1 | F5: On | I5: Segment | K5: 4 | L5: =D4142 -> 15282255 | M5: =L5/L7 -> 0.1515277 | N5: =SUMIF($C$2:$C$4375,K5,$D$2:$D$4375) -> 15282255
A6: 46305010248 | B6: Liivalaia | C6: 1 | D6: 2070 | E6: 1 | F6: On | I6: Segment | K6: 5 | L6: =D4376 -> 4995396 | M6: =L6/L7 -> 0.049530706 | N6: =SUMIF($C$2:$C$4375,K6,$D$2:$D$4375) -> 4995396
A7: 47006170249 | B7: Liivalaia | C7: 1 | D7: 2070 | E7: 1 | F7: On | J7: Kokku | L7: =SUM(L2:L6) -> 100854529
A8: 37308080231 | B8: Liivalaia | C8: 1 | D8: 2080 | E8: 2 | F8: On
A9: 38001070243 | B9: Liivalaia | C9: 1 | D9: 2080 | E9: 2 | F9: On | L9: Tehingute arv
A10: 47105310242 | B10: Kuressaare | C10: 1 | D10: 2080 | E10: 2 | F10: On | I10: Segment | K10: 1 | L10: =E2987 -> 2474521 | M10: =L10/L15 -> 0.68031435
A11: 36410100249 | B11: Liivalaia | C11: 1 | D11: 2080 | E11: 2 | F11: On | I11: Segment | K11: 2 | L11: =E3210 -> 194031 | M11: =L11/L15 -> 0.053344495
A12: 47504150250 | B12: Liivalaia | C12: 1 | D12: 2082 | E12: 2 | F12: On | I12: Segment | K12: 3 | L12: =E3442 -> 199875 | M12: =L12/L15 -> 0.054951173
A13: 44812300224 | B13: Barclay | C13: 1 | D13: 2085 | E13: 3 | F13: On | I13: Segment | K13: 4 | L13: =E4142 -> 572754 | M13: =L13/L15 -> 0.15746594
A14: 45210190249 | B14: Kallavere | C14: 1 | D14: 2090 | E14: 3 | F14: On | I14: Segment | K14: 5 | L14: =E4376 -> 196139 | M14: =L14/L15 -> 0.053924043
A15: 37402260248 | B15: Jõhvi | C15: 1 | D15: 2092 | E15: 3 | F15: On | J15: Kokku | L15: =SUM(L10:L14) -> 3637320
A16: 37210080254 | B16: Liivalaia | C16: 1 | D16: 2095 | E16: 3 | F16: Ei
A17: 36810240234 | B17: Forelli | C17: 1 | D17: 2100 | E17: 4 | F17: Ei
A18: 37603190211 | B18: Liivalaia | C18: 1 | D18: 2100 | E18: 5 | F18: Ei
A19: 37302250218 | B19: Sakala | C19: 1 | D19: 2100 | E19: 5 | F19: Ei
A20: 35812110231 | B20: Liivalaia | C20: 1 | D20: 2100 | E20: 5 | F20: Ei
A21: 46406170255 | B21: Liivalaia | C21: 1 | D21: 2102 | E21: 5 | F21: On
A22: 37709150254 | B22: Liivalaia | C22: 1 | D22: 2110 | E22: 5 | F22: On
A23: 46603060265 | B23: Liivalaia | C23: 1 | D23: 2110 | E23: 5 | F23: On
A24: 47909120256 | B24: Raeplatsi | C24: 1 | D24: 2110 | E24: 6 | F24: On
A25: 44507040235 | B25: Võru | C25: 1 | D25: 2110 | E25: 7 | F25: On
A26: 34812280249 | B26: Pae | C26: 1 | D26: 2110 | E26: 7 | F26: Ei
A27: 45603010248 | B27: Rapla | C27: 1 | D27: 2110 | E27: 7 | F27: On
... A903: 46401112755 | B903: Liivalaia | C903: 1 | D903: 4530 | E903: 255 | F903: On
A904: #VALUE! | B904: Liivalaia | C904: 1 | D904: 4530 | E904: 255 | F904: On
A905: 37309014926 | B905: Haapsalu | C905: 1 | D905: 4530 | E905: 255 | F905: On
A906: 46312234931 | B906: Paide | C906: 1 | D906: 4530 | E906: 255 | F906: On
A907: 37109036059 | B907: Emajõe | C907: 1 | D907: 4530 | E907: 255 | F907: Ei
A908: 37609196519 | B908: Liivalaia | C908: 1 | D908: 4530 | E908: 257 | F908: Ei
A909: 46412212717 | B909: Liivalaia | C909: 1 | D909: 4530 | E909: 259 | F909: Ei
A910: 47407262738 | B910: Liivalaia | C910: 1 | D910: 4530 | E910: 259 | F910: Ei
A911: 35411300216 | B911: Pärnu | C911: 1 | D911: 4530 | E911: 260 | F911: On
A912: 46912060223 | B912: Liivalaia | C912: 1 | D912: 4550 | E912: 260 | F912: On
A913: 45206250237 | B913: Rüütli | C913: 1 | D913: 4560 | E913: 260 | F913: On
A914: 34807180250 | B914: Liivalaia | C914: 1 | D914: 4570 | E914: 260 | F914: On
A915: 37001250260 | B915: Liivalaia | C915: 1 | D915: 4570 | E915: 260 | F915: On
...

Sheet  

Sheet plaan
A1: Luua arvutiklassi kapitaalremondi kalkulatsioon.
A2: Kasutusel on 3 grupi tooted, Värvid, Kattematerjalid, Muud tooted. (Võib olla rohkem)
A3: Endal otsustada, millised on kulud ja mis on hinnad.
A4: Lisada oma tööde hind ja kasum
A5: Arvutada juurde k.m
A7: Mõelda kuidas on otstarbekas antud tabelit luua, et hiljem oleks võimalus ka gruppide kaupa analüüsida kulusid ja tulusid

Sheet INIMESED
A1: Nimi | B1: Tüüp
A2: Mari | B2: Täiskasvanu
A3: Jaan | B3: Täiskasvanu
A4: Peeter | B4: Täiskasvanu
A5: Kati | B5: Täiskasvanu
A6: Tarmo | B6: Täiskasvanu
A7: Liis | B7: Täiskasvanu
A8: Laps1 | B8: Laps
A9: Laps2 | B9: Laps
A10: Laps3 | B10: Laps

Sheet KULUD
A1: Kuupäev | B1: Kirjeldus | C1: Maksja | D1: Summa | E1: Tüüp

Sheet ARVESTUS
A1: Kokku TAVALINE | B1: =SUMIF(KULUD!E:(E),"TAVALINE",KULUD!D:(D)) -> #NAME?
A2: Kokku ALKOHOL | B2: =SUMIF(KULUD!E:(E),"ALKOHOL",KULUD!D:(D)) -> #NAME?
A3: Osalejaid kokku | B3: =COUNTA(INIMESED!A:(A))-1 -> 0
A4: Täiskasvanuid | B4: =COUNTIF(INIMESED!B:(B),"Täiskasvanu") -> #NAME?
A5: Tavaline osa | B5: =$B$1/$B$3 -> #NAME?
A6: Alkoholi osa | B6: =IF($B$4=0,0,$B$2/$B$4) -> #NAME?
A8: Nimi | B8: Maksis | C8: Peaks maksma | D8: Saldo
A9: =INIMESED!$A$2 -> Mari | B9: =SUMIF(KULUD!B:B,A9,KULUD!D:(D)) -> #NAME? | C9: =IF(VLOOKUP(A9,INIMESED!A:(B),2,FALSE)="Täiskasvanu",$B$5+$B$6,$B$5) -> #NAME? | D9: =B9-C9 -> #NAME?

Sheet xml
A10: <?xml version="1.0"?>
A11: <Workbook xmlns="urn:schemas-microsoft-com:office:spreadsheet"
A12: xmlns:ss="urn:schemas-microsoft-com:office:spreadsheet">
A14: <Worksheet ss:Name="INIMESED">
A15: <Table>
A16: <Row>
A17: <Cell><Data ss:Type="String">Nimi</Data></Cell>
A18: <Cell><Data ss:Type="String">Tüüp</Data></Cell>
A19: </Row>
A21: <Row><Cell><Data ss:Type="String">Mari</Data></Cell><Cell><Data ss:Type="String">Täiskasvanu</Data></Cell></Row>
A22: <Row><Cell><Data ss:Type="String">Jaan</Data></Cell><Cell><Data ss:Type="String">Täiskasvanu</Data></Cell></Row>
A23: <Row><Cell><Data ss:Type="String">Peeter</Data></Cell><Cell><Data ss:Type="String">Täiskasvanu</Data></Cell></Row>
... A105: </Workbook>
