Workbook

Sheet Kulud
A1: Kuupäev | B1: Maksja | C1: Kirjeldus | D1: Summa (€) | E1: Kategooria (Tavaline/Alkohol)
A2: 2026-02-20 | B2: Adult1 | C2: Toit | D2: 120 | E2: Tavaline
A3: 2026-02-20 | B3: Adult2 | C3: Majutus | D3: 300 | E3: Tavaline
A4: 2026-02-20 | B4: Adult3 | C4: Õlu | D4: 60 | E4: Alkohol

Sheet Inimesed
A1: Nimi | B1: Tüüp (Adult/Child)
A2: Adult1 | B2: Adult
A3: Adult2 | B3: Adult
A4: Adult3 | B4: Adult
A5: Adult4 | B5: Adult
A6: Adult5 | B6: Adult
A7: Adult6 | B7: Adult
A8: Child1 | B8: Child
A9: Child2 | B9: Child
A10: Child3 | B10: Child

Sheet Arvutus
A1: Kokku tavalised kulud: | B1: =SUMIF(Kulud!E:E,"Tavaline",Kulud!D:D) -> 420
A2: Kokku alkoholi kulud: | B2: =SUMIF(Kulud!E:E,"Alkohol",Kulud!D:D) -> 60
A4: Osalejaid kokku (täiskasvanud + lapsed): | B4: =COUNTA(Inimesed!A:A)-1 -> 9
A5: Täiskasvanuid (alkoholi jagamiseks): | B5: =COUNTIF(Inimesed!B:B,"Adult") -> 6
A7: Tavaline kulu ühe inimese kohta: | B7: =IF(B4=0,0,B1/B4) -> 46.666667
A8: Alkoholi kulu ühe täiskasvanu kohta: | B8: =IF(B5=0,0,B2/B5) -> 10
A10: ---- Per-inimese kokkuvõte ----
A11: Nimi | B11: Tüüp | C11: Maksnud kokku (€) | D11: Osalus (Alkohol?) | E11: Jagatav osa kokku (€) | F11: Net (Maksis - Peab) (€)
A12: =Inimesed!A2 -> Adult1 | B12: =Inimesed!B2 -> Adult | C12: =SUMIF(Kulud!B:B,Inimesed!A2,Kulud!D:D) -> 120 | D12: =IF(Inimesed!B2="Adult",1,0) -> 1 | E12: =B7 + D12*B8 -> 56.666667 | F12: =C12-E12 -> 63.333333
A13: =Inimesed!A3 -> Adult2 | B13: =Inimesed!B3 -> Adult | C13: =SUMIF(Kulud!B:B,Inimesed!A3,Kulud!D:D) -> 300 | D13: =IF(Inimesed!B3="Adult",1,0) -> 1 | E13: =B7 + D13*B8 -> 56.666667 | F13: =C13-E13 -> 243.33333
A14: =Inimesed!A4 -> Adult3 | B14: =Inimesed!B4 -> Adult | C14: =SUMIF(Kulud!B:B,Inimesed!A4,Kulud!D:D) -> 60 | D14: =IF(Inimesed!B4="Adult",1,0) -> 1 | E14: =B7 + D14*B8 -> 56.666667 | F14: =C14-E14 -> 3.3333333
A15: =Inimesed!A5 -> Adult4 | B15: =Inimesed!B5 -> Adult | C15: =SUMIF(Kulud!B:B,Inimesed!A5,Kulud!D:D) -> 0 | D15: =IF(Inimesed!B5="Adult",1,0) -> 1 | E15: =B7 + D15*B8 -> 56.666667 | F15: =C15-E15 -> -56.666667
A16: =Inimesed!A6 -> Adult5 | B16: =Inimesed!B6 -> Adult | C16: =SUMIF(Kulud!B:B,Inimesed!A6,Kulud!D:D) -> 0 | D16: =IF(Inimesed!B6="Adult",1,0) -> 1 | E16: =B7 + D16*B8 -> 56.666667 | F16: =C16-E16 -> -56.666667
A17: =Inimesed!A7 -> Adult6 | B17: =Inimesed!B7 -> Adult | C17: =SUMIF(Kulud!B:B,Inimesed!A7,Kulud!D:D) -> 0 | D17: =IF(Inimesed!B7="Adult",1,0) -> 1 | E17: =B7 + D17*B8 -> 56.666667 | F17: =C17-E17 -> -56.666667
A18: =Inimesed!A8 -> Child1 | B18: =Inimesed!B8 -> Child | C18: =SUMIF(Kulud!B:B,Inimesed!A8,Kulud!D:D) -> 0 | D18: =IF(Inimesed!B8="Adult",1,0) -> 0 | E18: =B7 + D18*B8 -> 46.666667 | F18: =C18-E18 -> -46.666667
A19: =Inimesed!A9 -> Child2 | B19: =Inimesed!B9 -> Child | C19: =SUMIF(Kulud!B:B,Inimesed!A9,Kulud!D:D) -> 0 | D19: =IF(Inimesed!B9="Adult",1,0) -> 0 | E19: =B7 + D19*B8 -> 46.666667 | F19: =C19-E19 -> -46.666667
A20: =Inimesed!A10 -> Child3 | B20: =Inimesed!B10 -> Child | C20: =SUMIF(Kulud!B:B,Inimesed!A10,Kulud!D:D) -> 0 | D20: =IF(Inimesed!B10="Adult",1,0) -> 0 | E20: =B7 + D20*B8 -> 46.666667 | F20: =C20-E20 -> -46.666667

Sheet Tasaarveldus
A1: Tasaarveldus (kirjeldus)
A2: Selles lehes on juhised kuidas teha tasaarveldus, kuna automaatne paarissummade genereerimine Exceli valemitega on keeruline.
A4: Soovitus:
A5: 1) Täida sheet 'Kulud' kõikide kuludega (Maksja, Summa, Kategooria).
A6: 2) Kontrolli 'Arvutus' sheet'is veerg F neto-saldoid (positiivne = teised peavad sellele inimesele maksma; negatiivne = peab maksma).
A7: 3) Laadi see fail siia üles (võin ma selle üle lugeda) või kopeeri netosalod ja ma genereerin paarismaksed.
A9: Automaatse näite loomiseks: kui soovid, et ma kohe genereeriks paarismaksed, laadi täidetud Kulud sheet üles või ütle, kas soovid, et ma genereerin näidisandmete põhjal demo.
