Workbook
Name andmed: '[5]abi '!$B$17:$E$24
Name andmed: [1]Y2_Andmetabel!$A$1:$G$47
Name andmed: [2]Andmetabel!$A$1:$G$47
Name andmed: Andmetabel!$A$1:$G$47
Name ek: [6]Aeg!$C$14
Name elukohad: '[5]abi '!$Q$7:$Q$24
Name EmployeeName: #REF!
Name Excel_BuiltIn_Print_Area_1: #REF!
Name inimesi: '[5]abi '!$E$17:$E$24
Name isikukood: '[5]FunctionIfS '!$B$7:$B$60
Name k_hinnakiri: [5]Hinnakirjad!$B$4:$E$26
Name kamp_nimi: Sisestus_leht!$F$1
Name kat: [5]INDEX!$C$22:$C$27
Name kirjeldus: OFFSET('[4]Toodete andmed'!$B$5,1,0,COUNTA('[4]Toodete andmed'!$B$6:$B$26),1)
Name kood: [1]Y2_Andmetabel!$A$2:$A$47
Name kood: [2]Andmetabel!$A$2:$A$47
Name kood: Andmetabel!$A$2:$A$47
Name lep_nr: Sisestus_leht!$F$2
Name Lepingu_nr: Sisestus_leht!$C$1
Name Linnad: '[5]abi '!$S$7:$S$12
Name maks_kga: [5]Hinnakirjad!#REF!
Name num_tekst: '[5]abi '!$B$4:$B$13
Name number: [5]INDEX!$B$16
Name Omanik: '[5]abi '!$C$17:$C$24
Name Overtime: #REF!
Name piirkond: OFFSET('[4]Toodete andmed'!$H$5,1,0,COUNT('[4]Toodete andmed'!$G$6:$G$23),1)
Name pind: '[5]abi '!$D$17:$D$24
Name StartDay: #REF!
Name tariif: [5]INDEX!$D$22:$D$27
Name tariifid: '[5]abi '!$F$7:$O$7
Name tasu: Sisestus_leht!$F$3
Name TimeData: #REF!
Name tunde: [5]INDEX!$E$22:$E$27
Name v: [6]Aeg!$C$15

Sheet N1
A1: k.m | B1: 0.2 | D1: A | E1: 0.1 | J1: Sum | K1: Summeerib
A2: USD | B2: 1.12 | D2: B | E2: 0.25 | J2: Average | K2: Keskmine
A3: alates | B3: 20 | D3: C | E3: 0.5 | J3: Count | K3: Loendab numbreid
A4: soodustus | B4: 0.3 | J4: CountA | K4: Loendab täidetud lahtreid
A6: Kaup | B6: Kategooria | C6: Hind | D6: k.m | E6: Hind+ käibemaks | F6: Grupp | G6: Soodus | H6: Nimi grupiga
A7: Vorst | B7: Liha | C7: 6.32 | F7: C
A8: Vorst 1 | B8: Liha | C8: 14.2668 | F8: A | J8: INT | K8: Täisarv, ümardatakse nulli suunas
A9: Vorst 2 | B9: Liha | C9: 22.7304 | F9: B | J9: Round | K9: Määratakse kohtade arv, kust ümardatakse
A10: Juust | B10: Piim | C10: 8.32 | F10: A | J10: RoundUP | K10: Määratakse kohtade arv, kust ümardatakse, Ümardamine üles
A11: Juust 1 | B11: Piim | C11: 16.3827 | F11: B | J11: RoundDown | K11: Määratakse kohtade arv, kust ümardatakse, Ümardamine alla
A12: Juust 2 | B12: Piim | C12: 24.8463 | F12: C
A13: Leib | B13: Teravili | C13: 2 | F13: A | J13: Mround | K13: Määratakse ümardamise samm
A14: Sai | B14: Teravili | C14: 1.451 | F14: B | J14: Ceiling | K14: Määratakse ümardamise samm Ümardamine üles
A15: Leib 1 | B15: Teravili | C15: 10.035 | F15: B | J15: Floor | K15: Määratakse ümardamise samm Ümardamine alla
A16: Sai 1 | B16: Teravili | C16: 12.1509 | F16: C
A17: Leib 2 | B17: Teravili | C17: 18.4986 | F17: C | J17: IF
A18: Sai 2 | B18: Teravili | C18: 20.6145 | F18: A | J18: AND
J19: OR
A21: 0[blue][>100];-0[red][<0];"telli juurde";"Viga[cyan] | G21: Loendus | H21: Summa | J21: Countif | K21: Loenda tingimuse alusel
F22: Teravili | J22: …IFS | K22: Mitme kriteeriumiga funktsioonid
A23: 110 | F23: Liha
A24: -50 | F24: Piim
A25: 30
A26: tere | F26: Grupp | G26: Loendus | H26: Summa | I26: Loendus ...If | J26: Summa …IF
E27: Teravili | F27: A
E28: Teravili | F28: B
E29: Teravili | F29: C
E30: Liha | F30: A
E31: Liha | F31: B
E32: Liha | F32: C
E33: Piim | F33: A
E34: Piim | F34: B
E35: Piim | F35: C

Sheet Sega1
C1: Allahinnatud
C2: 0.05 | D2: 0.1 | E2: 0.15
A3: Kaup | B3: Alghind | C3: Mai | D3: Juuni | E3: Juuli
A4: Kaup1 | B4: 1225
A5: Kaup2 | B5: 500
A6: Kaup3 | B6: 869
A7: Kaup4 | B7: 4589
A8: Kaup5 | B8: 12548
A9: Kaup6 | B9: 369
A10: Kaup7 | B10: 147
A11: Kaup8 | B11: 125
A12: Kaup9 | B12: 3695
A13: Kaup10 | B13: 5896 | G13: 4284.92 | H13: Viimasesse lahtrisse peaks tulema selline arv.

Sheet Sega2
C1: Allahinnatud
C2: 0.05 | D2: 0.1 | E2: 0.15
A3: Kaup | B3: Alghind | C3: Mai | D3: Juuni | E3: Juuli
A4: Kaup1 | B4: 1225
A5: Kaup2 | B5: 500
A6: Kaup3 | B6: 869
A7: Kaup4 | B7: 4589
A8: Kaup5 | B8: 12548
A9: Kaup6 | B9: 369
A10: Kaup7 | B10: 147
A11: Kaup8 | B11: 125
A12: Kaup9 | B12: 3695
A13: Kaup10 | B13: 5896 | G13: 5011.6 | H13: Viimasesse lahtrisse peaks tulema selline arv.
A16: Muuta tabeli väljanägemine täpselt samaks mis oli lehel Sega 1

Sheet Harjutus
A1: k.m | B1: 0.24
A2: USD | B2: 0.89
A3: JAP | B3: 0.0054
A4: Müüdud kaubad ja kogused
A5: Müüja eesnimi | B5: Müüja perekonnanimi | C5: Kaup | D5: Alghind (käibemaksuta) | E5: JH | F5: Lõpphind (Käibemaksuga) | G5: Lõpphind USD | H5: Lõpphind Jeeni | I5: Märts | J5: April
A6: Aadu | B6: Kuusk | C6: XA-1 | D6: 3456.67 | E6: 0.17 | I6: 2 | J6: 7
A7: Alla | B7: Tamm | C7: XY-45 | D7: 268.76 | E7: 0.25 | I7: 108 | J7: 108
A8: Juku | B8: Haab | C8: XC-6 | D8: 123.45 | E8: 0.12 | I8: 6 | J8: 9
A9: Vadim | B9: Vaher | C9: XZ-4 | D9: 234.49 | E9: 0.2 | I9: 200 | J9: 100
A10: Vera | B10: Kastan | C10: XX-2 | D10: 1000 | E10: 0.1 | I10: 8 | J10: 10
A13: Müügisummad
A14: Märts | B14: April | C14: Muutus | D14: Müüja nimi
A22: Suurenenud
A23: Vähenenud
A24: Sama

Sheet Harjutus1
A1: Jrk nr | B1: Kirjeldus | C1: Kogus | D1: Arvekuupäev | E1: Hind | F1: Hind kokku (Ümardada 2 kohta peale koma) | G1: Soodustus
A2: 1 | B2: Pliiats | C2: 100 | D2: 45754 | E2: 10.23
A3: 2 | B3: Vihik | C3: 150 | D3: 45755 | E3: 1.12
A4: 3 | B4: Printer | C4: 1 | D4: 45756 | E4: 123.47
A5: 4 | B5: Hiir | C5: 125 | D5: 45757 | E5: 23.21
A6: 5 | B6: Hiirematt | C6: 125 | D6: 45758 | E6: 12.35
A7: 6 | B7: Kõlarid | C7: 3 | D7: 45759 | E7: 120.34
E8: Kokku:
C10: Kokkuvõte: | F10: Vajalikud andmed soodustuseks:
C11: Arveid välja saadetud: | F11: Soodustus: | G11: 0.08
C12: Arve Summa kokku 5 sendi täpsusega: | F12: Arve enne: | G12: 45757
C13: Kõige suurem arve summa: | F13: Summa üle: | G13: 500
C14: Kõige väikseim arve summa:
C15: Keskmine arve summa:
C16: Üle 50 € arveid esitati (mitmel korral):
C17: Enne 10.04.2025 (G12) esitatud arve summa kokku:
A20: 1. Arvekuupäev näita kujul N: 03.05.2025
A21: 2. Soodustus arvutada arvetele mis on esitatud enne 10.04.2025 ja arve summa on üle 50. Soodustus kehtib arve summast 8%

Sheet Palk_Andmed
A1: Tulumaks | B1: 0.22
A2: Maksuvaba | B2: 650
A3: Töötuskindlustus | B3: 0.028
A4: Kogumispension | B4: 0.02
A6: Perenimi | B6: Eesnimi | C6: Staatus | D6: Palk | E6: Preemia | F6: Muu tasu | G6: Tasu kokku | H6: Tulumaks | I6: Töötus kindlustus | J6: Pension | K6: Kätte
A7: Kuusk | B7: Aadu | C7: PK | D7: 3456 | E7: 0.1 | F7: 120 | J7: X
A8: Kask | B8: Eedi | C8: KK | D8: 5432 | E8: 0.15
A9: Mänd | B9: Aare | C9: PK | D9: 1234 | E9: 0.12 | F9: 3000
A10: Haab | B10: Maali | C10: KK | D10: 456 | E10: 0.2 | J10: X
A11: Kivi | B11: Kalle | C11: PK | D11: 10 | E11: 0.3
A12: Pärn | B12: Margus | C12: KK | D12: 9876 | E12: 0.1 | F12: 2500
A13: Kivi | B13: Mare | C13: PK | D13: 7654 | E13: 0.2 | J13: X
A14: Sõnajalg | B14: Kalle | C14: KK | D14: 908 | E14: 0.13 | F14: 45
A15: Torim | B15: Eve | C15: PK | D15: 7890 | E15: 0.17 | J15: X

Sheet DATABASE
A1: 1 | B1: Sorteerida perekonnanimede ja eesnimede alusel
A2: 2 | B2: Filtreerida tabelist välja Tartu kodanikud ja kopeerida andmete kõrvale
A3: 3 | B3: Arvutada "Palga Hinnang" - tuua välja kas palk on suur või väike Suured on kõik summad üle 4000
A4: 4 | B4: Tuua välja mitu palka on "Suured" ja kui palju "Väikesed"
A6: 5 | B6: Luua risttabel, kus tuuakse välja eri linnades elavate kodanike palkade summa
A7: 6 | B7: Luua risttabel, kus tuuakse välja eri linnades elavate kodanike palkade keskmine
A8: 7 | B8: Luua risttabel, kus tuuakse välja eri linnades elavate kodanike arv
A9: 8 | B9: Tuua välja mitu palka on "Suured" ja kui palju "Väikesed" ka risttabeli kujul
A10: 9 | B10: Tuua välja välja "Palk" alusel, mitu inimest kuulub vahemikku alla 1000, 1000-2000, 2000-3000 jne
A12: Perenimi | B12: Eesnimi | C12: Sugu | D12: Elukoht | E12: Töölevõtt | F12: Palk | G12: Palga Hinnang
A13: Kuusk | B13: Aadu | C13: M | D13: Paide | E13: 24879 | F13: 4500
A14: Kask | B14: Eedi | C14: M | D14: Paide | E14: 22505 | F14: 4333
A15: Mänd | B15: Aare | C15: M | D15: Paide | E15: 26645 | F15: 3210
A16: Haab | B16: Maali | C16: N | D16: Paide | E16: 27098 | F16: 543
A17: Kivi | B17: Kalle | C17: M | D17: Paide | E17: 27831 | F17: 456
A18: Pärn | B18: Margus | C18: M | D18: Paide | E18: 28561 | F18: 678
A19: Kivi | B19: Kalle | C19: M | D19: Pärnu | E19: 32854 | F19: 12
A20: Mare | B20: Sõnajalg | C20: N | D20: Pärnu | E20: 33921 | F20: 7777
A21: Torim | B21: Eve | C21: N | D21: Pärnu | E21: 33922 | F21: 7777
A22: Kuusk | B22: Aadu | C22: M | D22: Pärnu | E22: 17852 | F22: 3456
A23: Pärn | B23: Vambola | C23: M | D23: Pärnu | E23: 25523 | F23: 4566
A24: Kuusk | B24: Vambola | C24: M | D24: Pärnu | E24: 24879 | F24: 4500
... A78: Pärn | B78: Aadu | C78: M | D78: Viljandi | E78: 25523 | F78: 4566

Sheet Arvutid
A1: Kuupäev | B1: Linn | C1: Arvuti | D1: Arv | E1: Hind | F1: Maksumus | I1: Koostada arvutite müükide tabeli alusel järgmised kondtabelid:
A2: 42371 | B2: Valga | C2: Frodo | D2: 1 | E2: 419 | F2: 419
A3: 42371 | B3: Tallinn | C3: Frodo | D3: 2 | E3: 1330 | F3: 2660 | I3: 1. Müükide maksumus linnade lõikes
A4: 42372 | B4: Tallinn | C4: Aragorn | D4: 2 | E4: 499 | F4: 998
A5: 42372 | B5: Tallinn | C5: Balrog | D5: 3 | E5: 429 | F5: 1287 | I5: 2. Müükide maksumus arvuti markide lõikes
A6: 42372 | B6: Võru | C6: Gandalf | D6: 2 | E6: 849 | F6: 1698
A7: 42373 | B7: Tartu | C7: Balrog | D7: 5 | E7: 409 | F7: 2045 | I7: 3. Müükide arv kuupäevade lõikes
A8: 42373 | B8: Tallinn | C8: Eldar | D8: 3 | E8: 465 | F8: 1395
A9: 42376 | B9: Valga | C9: Balrog | D9: 6 | E9: 435 | F9: 2610 | I9: 4. Müükide arv ja maksumus arvuti markide lõikes
A10: 42376 | B10: Pärnu | C10: Eldar | D10: 3 | E10: 485 | F10: 1455
A11: 42376 | B11: Tallinn | C11: Faram | D11: 1 | E11: 599 | F11: 599 | I11: 5. Müükide maksumus linnade (tulbad) ja arvutite (read)
A12: 42376 | B12: Valga | C12: Frodo | D12: 1 | E12: 1250 | F12: 1250
A13: 42378 | B13: Tallinn | C13: Grimbold | D13: 6 | E13: 1149 | F13: 6894 | I13: 6. Arvutide kogused linnade ja hindade (0 -499, 500 - 999,
A14: 42379 | B14: Pärnu | C14: Elend | D14: 1 | E14: 1299 | F14: 1299 | I14: 1000 -... ) ning arvutite lõikes
A15: 42379 | B15: Pärnu | C15: Rohan | D15: 4 | E15: 589 | F15: 2356
A16: 42379 | B16: Tartu | C16: Sauron | D16: 2 | E16: 339 | F16: 678
A17: 42380 | B17: Valga | C17: Aragorn | D17: 1 | E17: 548.9 | F17: 548.9
A18: 42380 | B18: Tartu | C18: Balrog | D18: 2 | E18: 389 | F18: 778
A19: 42380 | B19: Tallinn | C19: Frodo | D19: 1 | E19: 1430 | F19: 1430
A20: 42383 | B20: Tartu | C20: Frodo | D20: 4 | E20: 1199 | F20: 4796
A21: 42383 | B21: Pärnu | C21: Gandalf | D21: 3 | E21: 855 | F21: 2565
A22: 42383 | B22: Valga | C22: Kalvar | D22: 2 | E22: 699 | F22: 1398
A23: 42385 | B23: Tallinn | C23: Arven | D23: 5 | E23: 369 | F23: 1845
A24: 42386 | B24: Tartu | C24: Aragorn | D24: 3 | E24: 449.1 | F24: 1347.3
A25: 42386 | B25: Tallinn | C25: Balrog | D25: 7 | E25: 699 | F25: 4893
A26: 42387 | B26: Tallinn | C26: Aragorn | D26: 1 | E26: 528.94 | F26: 528.94
... A35: 42395 | B35: Pärnu | C35: Gandalf | D35: 2 | E35: 869 | F35: 1738

Sheet   

Sheet Weekday_red
A1: 46082
A4: =A1 -> 46082 | B4: =A4+1 -> 46083 | C4: =B4+1 -> 46084 | D4: =C4+1 -> 46085 | E4: =D4+1 -> 46086 | F4: =E4+1 -> 46087 | G4: =F4+1 -> 46088 | H4: =G4+1 -> 46089 | I4: =H4+1 -> 46090 | ... R4: =Q4+1 -> 46099
A5: 1 | B5: 2 | C5: 3 | D5: 4 | E5: 5 | F5: 6 | G5: 7 | H5: 8 | I5: 9 | J5: 10 | K5: 11 | L5: 12 | M5: 13 | N5: 14 | O5: 15 | P5: 16 | Q5: 17 | R5: 18
A6: 1 | B6: 2 | C6: 3 | D6: 4 | E6: 5 | F6: 6 | G6: 7 | H6: 8 | I6: 9 | J6: 10 | K6: 11 | L6: 12 | M6: 13 | N6: 14 | O6: 15 | P6: 16 | Q6: 17 | R6: 18
A7: 1 | B7: 2 | C7: 3 | D7: 4 | E7: 5 | F7: 6 | G7: 7 | H7: 8 | I7: 9 | J7: 10 | K7: 11 | L7: 12 | M7: 13 | N7: 14 | O7: 15 | P7: 16 | Q7: 17 | R7: 18
A8: 1 | B8: 2 | C8: 3 | D8: 4 | E8: 5 | F8: 6 | G8: 7 | H8: 8 | I8: 9 | J8: 10 | K8: 11 | L8: 12 | M8: 13 | N8: 14 | O8: 15 | P8: 16 | Q8: 17 | R8: 18
A9: 1 | B9: 2 | C9: 3 | D9: 4 | E9: 5 | F9: 6 | G9: 7 | H9: 8 | I9: 9 | J9: 10 | K9: 11 | L9: 12 | M9: 13 | N9: 14 | O9: 15 | P9: 16 | Q9: 17 | R9: 18
A10: 1 | B10: 2 | C10: 3 | D10: 4 | E10: 5 | F10: 6 | G10: 7 | H10: 8 | I10: 9 | J10: 10 | K10: 11 | L10: 12 | M10: 13 | N10: 14 | O10: 15 | P10: 16 | Q10: 17 | R10: 18
A11: 1 | B11: 2 | C11: 3 | D11: 4 | E11: 5 | F11: 6 | G11: 7 | H11: 8 | I11: 9 | J11: 10 | K11: 11 | L11: 12 | M11: 13 | N11: 14 | O11: 15 | P11: 16 | Q11: 17 | R11: 18
A12: 1 | B12: 2 | C12: 3 | D12: 4 | E12: 5 | F12: 6 | G12: 7 | H12: 8 | I12: 9 | J12: 10 | K12: 11 | L12: 12 | M12: 13 | N12: 14 | O12: 15 | P12: 16 | Q12: 17 | R12: 18
A13: 1 | B13: 2 | C13: 3 | D13: 4 | E13: 5 | F13: 6 | G13: 7 | H13: 8 | I13: 9 | J13: 10 | K13: 11 | L13: 12 | M13: 13 | N13: 14 | O13: 15 | P13: 16 | Q13: 17 | R13: 18
A14: 1 | B14: 2 | C14: 3 | D14: 4 | E14: 5 | F14: 6 | G14: 7 | H14: 8 | I14: 9 | J14: 10 | K14: 11 | L14: 12 | M14: 13 | N14: 14 | O14: 15 | P14: 16 | Q14: 17 | R14: 18
A15: 1 | B15: 2 | C15: 3 | D15: 4 | E15: 5 | F15: 6 | G15: 7 | H15: 8 | I15: 9 | J15: 10 | K15: 11 | L15: 12 | M15: 13 | N15: 14 | O15: 15 | P15: 16 | Q15: 17 | R15: 18
A16: 1 | B16: 2 | C16: 3 | D16: 4 | E16: 5 | F16: 6 | G16: 7 | H16: 8 | I16: 9 | J16: 10 | K16: 11 | L16: 12 | M16: 13 | N16: 14 | O16: 15 | P16: 16 | Q16: 17 | R16: 18
... A18: 1 | B18: 2 | C18: 3 | D18: 4 | E18: 5 | F18: 6 | G18: 7 | H18: 8 | I18: 9 | J18: 10 | K18: 11 | L18: 12 | M18: 13 | N18: 14 | O18: 15 | P18: 16 | Q18: 17 | R18: 18

Sheet Yazzy
D1: mees 1 | E1: mees 2 | F1: mees 3 | G1: mees 4 | H1: mees 5 | I1: mees 6
C2: 1
C3: 2
C4: 3
C5: 4
C6: 5
C7: 6
C8: Seis
C9: Preemia
C10: Kokku
C12: Paar
C13: 2 Paari
C14: 3-ik
C15: 4-ik
C16: Väike Rivi
C17: Suur Rivi
C18: Maja
C19: Juhus
C20: Veenus
... C22: Tulemus

Sheet  

Sheet a
A1: Tuua välja kuud ja päevad. N: Jaanuar; Laupäev
A3: Sisestamise kuupäev | B3: Kuu | C3: Päev
A4: 39088
A5: 38375
A6: 38392
A7: 38409
A8: 38426
A9: 38443
A10: 38460

Sheet b
A1: Tuua välja eraldi lehele kõigi asutuste nimekiri
A2: Tuua välja Täpsustatud eelarve summad Asutuste kaupa. 1) Risttabel 2) SumIF
A5: Jagu | B5: Järje-tunnus | C5: Asutuse nimi | D5: Kulu-allikas (00-80) | E5: Artikkel/artikli alajaotis | F5: Artikli alajaotise kirjeldus | G5: Lisa-tunnus | H5: Lisatunnuse kirjeldus | I5: Eelarve | J5: Muudatus (jaanuar) | K5: Muudatus (märts) | L5: Muudatus (juuni) | M5: Muudatus (juuni 2) | N5: Muudatus 4 | O5: Täpsustatud eelarve
A6: 10 | B6: 01 | C6: Siseministeerium | D6: 00 | E6: 4500.00 | F6: Riigile ja riigiasutustele | G6: 0001 | H6: Õppelaenude põhiosa kustutamine | I6: 9606502 | J6: -8441210 | K6: -23995 | L6: -1112220 | M6: 5630 | N6: -8887 | O6: =SUM(I6:N6) -> 25820
A7: 10 | B7: 01 | C7: Siseministeerium | D7: 00 | E7: 4500.00 | F7: Riigile ja riigiasutustele | G7: 0002 | H7: Erisoodustusmaks õppelaenudelt | I7: 6566470 | J7: -5769957 | K7: -16402 | L7: -760263 | M7: 3848 | N7: -6075 | O7: =SUM(I7:N7) -> 17621
A8: 10 | B8: 01 | C8: Siseministeerium | D8: 00 | E8: 505 | F8: Erisoodustused | G8: 0001 | H8: Õppelaenude põhiosa kustutamine | I8: 0 | J8: 260982 | O8: =SUM(I8:N8) -> 260982
A9: 10 | B9: 01 | C9: Siseministeerium | D9: 00 | E9: 506 | F9: Personalikuludega kaasnevad maksud ja sotsiaalkindlustusmaksed | G9: 0002 | H9: Erisoodustusmaks õppelaenudelt | I9: 0 | J9: 178393 | O9: =SUM(I9:N9) -> 178393
A10: 10 | B10: 02 | C10: Kaitsepolitseiamet | D10: 00 | E10: 505 | F10: Erisoodustused | G10: 0001 | H10: Õppelaenude põhiosa kustutamine | I10: 0 | J10: 325753 | L10: 34023 | O10: =SUM(I10:N10) -> 359776
A11: 10 | B11: 02 | C11: Kaitsepolitseiamet | D11: 00 | E11: 506 | F11: Personalikuludega kaasnevad maksud ja sotsiaalkindlustusmaksed | G11: 0002 | H11: Erisoodustusmaks õppelaenudelt | I11: 0 | J11: 222667 | L11: 23257 | O11: =SUM(I11:N11) -> 245924
A12: 10 | B12: 03 | C12: Kodakondsus- ja Migratsiooniamet | D12: 00 | E12: 505 | F12: Erisoodustused | G12: 0001 | H12: Õppelaenude põhiosa kustutamine | I12: 0 | J12: 251718 | L12: 26291 | O12: =SUM(I12:N12) -> 278009
A13: 10 | B13: 03 | C13: Kodakondsus- ja Migratsiooniamet | D13: 00 | E13: 506 | F13: Personalikuludega kaasnevad maksud ja sotsiaalkindlustusmaksed | G13: 0002 | H13: Erisoodustusmaks õppelaenudelt | I13: 0 | J13: 172061 | L13: 17971 | O13: =SUM(I13:N13) -> 190032
A14: 10 | B14: 04 | C14: Piirivalveamet | D14: 00 | E14: 505 | F14: Erisoodustused | G14: 0001 | H14: Õppelaenude põhiosa kustutamine | I14: 0 | J14: 1237500 | L14: 129250 | O14: =SUM(I14:N14) -> 1366750
A15: 10 | B15: 04 | C15: Piirivalveamet | D15: 00 | E15: 506 | F15: Personalikuludega kaasnevad maksud ja sotsiaalkindlustusmaksed | G15: 0002 | H15: Erisoodustusmaks õppelaenudelt | I15: 0 | J15: 845887 | L15: 88349 | O15: =SUM(I15:N15) -> 934236
A16: 10 | B16: 05 | C16: Politseiamet | D16: 00 | E16: 505 | F16: Erisoodustused | G16: 0001 | H16: Õppelaenude põhiosa kustutamine | I16: 0 | J16: 121338 | L16: 73503 | O16: =SUM(I16:N16) -> 194841
A17: 10 | B17: 05 | C17: Politseiamet | D17: 00 | E17: 506 | F17: Personalikuludega kaasnevad maksud ja sotsiaalkindlustusmaksed | G17: 0002 | H17: Erisoodustusmaks õppelaenudelt | I17: 0 | J17: 82940 | L17: 50243 | O17: =SUM(I17:N17) -> 133183
A18: 10 | B18: 05 | C18: Ida Politseiprefektuur | D18: 00 | E18: 505 | F18: Erisoodustused | G18: 0001 | H18: Õppelaenude põhiosa kustutamine | I18: 0 | J18: 608746 | L18: 63580 | O18: =SUM(I18:N18) -> 672326
A19: 10 | B19: 05 | C19: Ida Politseiprefektuur | D19: 00 | E19: 506 | F19: Personalikuludega kaasnevad maksud ja sotsiaalkindlustusmaksed | G19: 0002 | H19: Erisoodustusmaks õppelaenudelt | I19: 0 | J19: 416105 | L19: 43460 | O19: =SUM(I19:N19) -> 459565
A20: 10 | B20: 05 | C20: Julgestuspolitsei | D20: 00 | E20: 505 | F20: Erisoodustused | G20: 0001 | H20: Õppelaenude põhiosa kustutamine | I20: 0 | J20: 266273 | L20: 41299 | O20: =SUM(I20:N20) -> 307572
A21: 10 | B21: 05 | C21: Julgestuspolitsei | D21: 00 | E21: 506 | F21: Personalikuludega kaasnevad maksud ja sotsiaalkindlustusmaksed | G21: 0002 | H21: Erisoodustusmaks õppelaenudelt | I21: 0 | J21: 182010 | L21: 28230 | O21: =SUM(I21:N21) -> 210240
... A41: 10 | B41: 06 | C41: Ida-Eesti Päästekeskus | D41: 00 | E41: 506 | F41: Personalikuludega kaasnevad maksud ja sotsiaalkindlustusmaksed | G41: 0002 | H41: Erisoodustusmaks õppelaenudelt | I41: 0 | J41: 165334 | L41: 17268 | O41: =SUM(I41:N41) -> 182602
A42: 10 | B42: 07 | C42: Siseministeeriumi infotehnoloogia- ja arenduskeskus | D42: 00 | E42: 505 | F42: Erisoodustused | G42: 0001 | H42: Õppelaenude põhiosa kustutamine | I42: 0 | K42: 23995 | O42: =SUM(I42:N42) -> 23995
A43: 10 | B43: 07 | C43: Siseministeeriumi infotehnoloogia- ja arenduskeskus | D43: 00 | E43: 506 | F43: Personalikuludega kaasnevad maksud ja sotsiaalkindlustusmaksed | G43: 0002 | H43: Erisoodustusmaks õppelaenudelt | I43: 0 | K43: 16402 | O43: =SUM(I43:N43) -> 16402
A44: 10 | B44: 08 | C44: Sisekaitseakadeemia | D44: 00 | E44: 505 | F44: Erisoodustused | G44: 0001 | H44: Õppelaenude põhiosa kustutamine | I44: 0 | J44: 185511 | L44: 71663 | O44: =SUM(I44:N44) -> 257174
A45: 10 | B45: 08 | C45: Sisekaitseakadeemia | D45: 00 | E45: 506 | F45: Personalikuludega kaasnevad maksud ja sotsiaalkindlustusmaksed | G45: 0002 | H45: Erisoodustusmaks õppelaenudelt | I45: 0 | J45: 126805 | L45: 48985 | O45: =SUM(I45:N45) -> 175790
A46: 10 | B46: 09 | C46: Harju Maavalitsus | D46: 00 | E46: 505 | F46: Erisoodustused | G46: 0001 | H46: Õppelaenude põhiosa kustutamine | I46: 0 | J46: 17475 | L46: 5755 | O46: =SUM(I46:N46) -> 23230
A47: 10 | B47: 09 | C47: Harju Maavalitsus | D47: 00 | E47: 506 | F47: Personalikuludega kaasnevad maksud ja sotsiaalkindlustusmaksed | G47: 0002 | H47: Erisoodustusmaks õppelaenudelt | I47: 0 | J47: 11945 | L47: 3934 | O47: =SUM(I47:N47) -> 15879
A48: 10 | B48: 09 | C48: Hiiu Maavalitsus | D48: 00 | E48: 505 | F48: Erisoodustused | G48: 0001 | H48: Õppelaenude põhiosa kustutamine | I48: 0 | J48: 4800 | L48: 2365 | O48: =SUM(I48:N48) -> 7165
A49: 10 | B49: 09 | C49: Hiiu Maavalitsus | D49: 00 | E49: 506 | F49: Personalikuludega kaasnevad maksud ja sotsiaalkindlustusmaksed | G49: 0002 | H49: Erisoodustusmaks õppelaenudelt | I49: 0 | J49: 3282 | L49: 1617 | O49: =SUM(I49:N49) -> 4899
A50: 10 | B50: 09 | C50: Ida-Viru Maavalitsus | D50: 00 | E50: 505 | F50: Erisoodustused | G50: 0001 | H50: Õppelaenude põhiosa kustutamine | I50: 0 | J50: 20303 | L50: 2120 | O50: =SUM(I50:N50) -> 22423
A51: 10 | B51: 09 | C51: Ida-Viru Maavalitsus | D51: 00 | E51: 506 | F51: Personalikuludega kaasnevad maksud ja sotsiaalkindlustusmaksed | G51: 0002 | H51: Erisoodustusmaks õppelaenudelt | I51: 0 | J51: 13878 | L51: 1450 | O51: =SUM(I51:N51) -> 15328
A52: 10 | B52: 09 | C52: Narva Lastekodu | D52: 00 | E52: 505 | F52: Erisoodustused | G52: 0001 | H52: Õppelaenude põhiosa kustutamine | I52: 0 | J52: 20303 | L52: 2120 | M52: -7298 | O52: =SUM(I52:N52) -> 15125
A53: 10 | B53: 09 | C53: Narva Lastekodu | D53: 00 | E53: 506 | F53: Personalikuludega kaasnevad maksud ja sotsiaalkindlustusmaksed | G53: 0002 | H53: Erisoodustusmaks õppelaenudelt | I53: 0 | J53: 13878 | L53: 1450 | M53: -4989 | O53: =SUM(I53:N53) -> 10339
A54: 10 | B54: 09 | C54: Narva-Jõesuu Hooldekodu | D54: 00 | E54: 505 | F54: Erisoodustused | G54: 0001 | H54: Õppelaenude põhiosa kustutamine | I54: 0 | J54: 2836 | L54: 296 | O54: =SUM(I54:N54) -> 3132
A55: 10 | B55: 09 | C55: Narva-Jõesuu Hooldekodu | D55: 00 | E55: 506 | F55: Personalikuludega kaasnevad maksud ja sotsiaalkindlustusmaksed | G55: 0002 | H55: Erisoodustusmaks õppelaenudelt | I55: 0 | J55: 1939 | L55: 203 | O55: =SUM(I55:N55) -> 2142
A56: 10 | B56: 09 | C56: Narva-Jõesuu Lastekodu | D56: 00 | E56: 505 | F56: Erisoodustused | G56: 0001 | H56: Õppelaenude põhiosa kustutamine | I56: 0 | M56: 1668 | O56: =SUM(I56:N56) -> 1668
A57: 10 | B57: 09 | C57: Narva-Jõesuu Lastekodu | D57: 00 | E57: 506 | F57: Personalikuludega kaasnevad maksud ja sotsiaalkindlustusmaksed | G57: 0002 | H57: Erisoodustusmaks õppelaenudelt | I57: 0 | M57: 1141 | O57: =SUM(I57:N57) -> 1141
A58: 10 | B58: 09 | C58: Jõgeva Maavalitsus | D58: 00 | E58: 505 | F58: Erisoodustused | G58: 0001 | H58: Õppelaenude põhiosa kustutamine | I58: 0 | J58: 29240 | L58: 3054 | O58: =SUM(I58:N58) -> 32294
A59: 10 | B59: 09 | C59: Jõgeva Maavalitsus | D59: 00 | E59: 506 | F59: Personalikuludega kaasnevad maksud ja sotsiaalkindlustusmaksed | G59: 0002 | H59: Erisoodustusmaks õppelaenudelt | I59: 0 | J59: 19987 | L59: 2088 | O59: =SUM(I59:N59) -> 22075
A60: 10 | B60: 09 | C60: Võisiku Hooldekodu | D60: 00 | E60: 505 | F60: Erisoodustused | G60: 0001 | H60: Õppelaenude põhiosa kustutamine | I60: 0 | J60: 1965 | O60: =SUM(I60:N60) -> 1965
A61: 10 | B61: 09 | C61: Võisiku Hooldekodu | D61: 00 | E61: 506 | F61: Personalikuludega kaasnevad maksud ja sotsiaalkindlustusmaksed | G61: 0002 | H61: Erisoodustusmaks õppelaenudelt | I61: 0 | J61: 1344 | O61: =SUM(I61:N61) -> 1344
...

Sheet c
A1: Arvutada käibemaksud ja lõpphinnad
A2: Tuua välja kuude alusel (makstud välja) kogused. N: Jaanuar 58 Veebruar 83 jne
A3: Tuua välja piirkonna ja koodi alusel koguste summad. Kogused. N: Tartu A 65; Rakvere A 45 jne
A4: Määrata igale koodile koefitsient (A=1; B=2; C=3 jne Iga järgmine täht on järgine number)
A6: Piirkond | B6: kood | C6: kood nr | D6: kogus | E6: hind | F6: kokku | G6: käibemaks | H6: kokku koos käibemaksuga | I6: Makstud välja | J6: Kogus korda koefitsient
A7: Tartu | B7: A | C7: -215 | D7: 6 | E7: 9858.2 | F7: =D7*E7 -> 59149.2 | I7: 38843
A8: Tallinn | B8: A | C8: -680 | D8: 1 | E8: 5661.53 | F8: =D8*E8 -> 5661.53 | I8: 38943
A9: Tallinn | B9: A | C9: -684 | D9: 9 | E9: 9745.11 | F9: =D9*E9 -> 87705.99 | I9: 39014
A10: Tartu | B10: A | C10: -685 | D10: 2 | E10: 6226.09 | F10: =D10*E10 -> 12452.18 | I10: 39134
A11: Tartu | B11: A | C11: -357 | D11: 6 | E11: 3387.26 | F11: =D11*E11 -> 20323.56 | I11: 39200
A12: Tartu | B12: A | C12: -641 | D12: 8 | E12: 2965.83 | F12: =D12*E12 -> 23726.64 | I12: 39206
A13: Tartu | B13: A | C13: -242 | D13: 4 | E13: 4198.77 | F13: =D13*E13 -> 16795.08 | I13: 39207
A14: Tartu | B14: A | C14: -730 | D14: 11 | E14: 4001.86 | F14: =D14*E14 -> 44020.46 | I14: 39285
A15: Tartu | B15: A | C15: -282 | D15: 11 | E15: 5465.92 | F15: =D15*E15 -> 60125.12 | I15: 39317
A16: Tartu | B16: A | C16: -263 | D16: 3 | E16: 2468.87 | F16: =D16*E16 -> 7406.61 | I16: 39323
A17: Rakvere | B17: A | C17: -531 | D17: 8 | E17: 9083.72 | F17: =D17*E17 -> 72669.76 | I17: 39403
A18: Rakvere | B18: A | C18: -438 | D18: 5 | E18: 4569.05 | F18: =D18*E18 -> 22845.25 | I18: 39422
... A66: Haapsalu | B66: T | C66: -191 | D66: 3 | E66: 5879.81 | F66: =D66*E66 -> 17639.43 | I66: 39125

Sheet    

Sheet Sisestus_leht
B1: Lepingu Nr | C1: 51-EK12/119 | E1: Kampaania nimi | F1: Reklaam 1
B2: Tellija: | C2: Kivi&Co | E2: Lepingu nr | F2: B012006
B3: Kontaktisik: | C3: K.Irp | E3: Tasu suurus | F3: 500
B4: Reklaamija: | C4: Firma 123
A6: Nr | B6: Kood | C6: Alguskuupäev | D6: Lõppkuupäev | E6: kogus sõidukeid | F6: Soodustuse% | G6: Algusnädal | H6: Lõpu nädal | I6: Nädalaid | J6: Vedaja | K6: Reg_kood | L6: Indeks | M6: Aadress | N6: Linn
A7: 1 | B7: Haapsalu_Reisipaus | C7: 45658 | D7: 45719 | E7: 20 | F7: 30 | I7: =H7-G7 -> 0
A8: 2 | G8: =WEEKNUM(C8) -> 0 | H8: =WEEKNUM(D8) -> 0 | I8: =H8-G8 -> 0
A9: 3 | G9: =WEEKNUM(C9) -> 0 | H9: =WEEKNUM(D9) -> 0 | I9: =H9-G9 -> 0
A10: 4 | G10: =WEEKNUM(C10) -> 0 | H10: =WEEKNUM(D10) -> 0 | I10: =H10-G10 -> 0
A11: 5 | G11: =WEEKNUM(C11) -> 0 | H11: =WEEKNUM(D11) -> 0 | I11: =H11-G11 -> 0

Sheet hinnapakkumine
C3: Hinnapakkumine nr: | D3: =Sisestus_leht!C1 -> 51-EK12/119
C4: Tellija: | D4: =Sisestus_leht!C2 -> Kivi&Co | L4: Kuupäev: | M4: =TODAY() -> 46100
C5: Kontaktisik: | D5: =Sisestus_leht!C3 -> K.Irp | L5: Pakkumise koostas: | M5: P. UUK
C6: Reklaamija: | D6: =Sisestus_leht!C4 -> Firma 123 | L6: Telefon: | M6: 1234567
B8: tähis | C8: linn/maakond | D8: nädal | E8: kuupäevad | F8: nädalate arv | G8: kogus sõidukeid | H8: kogus kleebiseid | I8: hinnakirja hind | J8: soodustus % | K8: soodustuse summa | L8: kleebiste tootmine | M8: netto hind EUR
H9: =G9*4 -> 0 | I9: =G9*60 -> 0 | J9: =Sisestus_leht!F7 -> 30 | K9: =I9*J9% -> 0 | L9: =H9*1 -> 0 | M9: =I9-K9+L9 -> 0
H10: =G10*4 -> 0 | I10: =G10*60 -> 0 | J10: =Sisestus_leht!F8 -> 0 | K10: =I10*J10% -> 0 | L10: =H10*1 -> 0 | M10: =I10-K10+L10 -> 0
H11: =G11*4 -> 0 | I11: =G11*60 -> 0 | J11: =Sisestus_leht!F9 -> 0 | K11: =I11*J11% -> 0 | L11: =H11*1 -> 0 | M11: =I11-K11+L11 -> 0
H12: =G12*4 -> 0 | I12: =G12*60 -> 0 | J12: =Sisestus_leht!F10 -> 0 | K12: =I12*J12% -> 0 | L12: =H12*1 -> 0 | M12: =I12-K12+L12 -> 0
H13: =G13*4 -> 0 | I13: =G13*60 -> 0 | J13: =Sisestus_leht!F11 -> 0 | K13: =I13*J13% -> 0 | L13: =H13*1 -> 0 | M13: =I13-K13+L13 -> 0
G14: =SUM(G9:G13) -> 0 | H14: =SUM(H9:H13) -> 0 | I14: =SUM(I9:I13) -> 0 | K14: =SUM(K9:K13) -> 0 | L14: =SUM(L9:L13) -> 0 | M14: =SUM(M9:M13) -> 0
L15: Hinnakirja hind | M15: =I14 -> 0
L16: Kliendi soodustus | M16: =K14 -> 0
L17: Kleebiste tootmine | M17: =L14 -> 0
L18: HIND KOKKU | M18: =M15-M16+M17 -> 0
L19: Käibemaks 20% | M19: =M18*20% -> 0
L20: Hind koos käibemaksuga | M20: =SUM(M18:M19) -> 0

Sheet Andmetabel
A1: Kood | B1: liin | C1: vedaja | D1: Reg_kood | E1: Indeks | F1: Aadress | G1: Linn
A2: =B2&"_"&C2 -> Haapsalu_M.K. Reis-X Haapsalu | B2: Haapsalu | C2: M.K. Reis-X Haapsalu
A3: =B3&"_"&C3 -> Haapsalu_Reisipaus | B3: Haapsalu | C3: Reisipaus | D3: 10897497 | E3: 44314 | F3: Fr. R. Kreutzwaldi 26B | G3: Rakvere
A4: =B4&"_"&C4 -> Harjumaa_Harjumaa Liinid | B4: Harjumaa | C4: Harjumaa Liinid
A5: =B5&"_"&C5 -> Harjumaa_Hansabuss | B5: Harjumaa | C5: Hansabuss
A6: =B6&"_"&C6 -> Harjumaa_Mulgi Reisid | B6: Harjumaa | C6: Mulgi Reisid | D6: 10122514 | E6: 71720 | F6: Pargi tn 5A | G6: Viljandi
A7: =B7&"_"&C7 -> Hiiumaa_Mulgi Reisid | B7: Hiiumaa | C7: Mulgi Reisid | D7: 10122514 | E7: 71720 | F7: Pargi tn 5A | G7: Viljandi
A8: =B8&"_"&C8 -> Ida-Virumaa_Narva Bussiveod | B8: Ida-Virumaa | C8: Narva Bussiveod | D8: 10247291 | E8: 21004 | F8: Kadastiku 51 | G8: Narva
A9: =B9&"_"&C9 -> Ida-Virumaa_Järve Bussipark | B9: Ida-Virumaa | C9: Järve Bussipark
A10: =B10&"_"&C10 -> Ida-Virumaa_Ekspress Auto L | B10: Ida-Virumaa | C10: Ekspress Auto L
A11: =B11&"_"&C11 -> Jõgeva_Eltor | B11: Jõgeva | C11: Eltor
A12: =B12&"_"&C12 -> Jõgeva maakond_Eltor | B12: Jõgeva maakond | C12: Eltor
A13: =B13&"_"&C13 -> Jõhvi_Järve Bussipark | B13: Jõhvi | C13: Järve Bussipark
A14: =B14&"_"&C14 -> Jõhvi_Ekspress Auto L | B14: Jõhvi | C14: Ekspress Auto L
A15: =B15&"_"&C15 -> Järvamaa_Atko Trans | B15: Järvamaa | C15: Atko Trans
A16: =B16&"_"&C16 -> K-Järve_Järve Bussipark | B16: K-Järve | C16: Järve Bussipark
A17: =B17&"_"&C17 -> K-Järve_Ekspress Auto L | B17: K-Järve | C17: Ekspress Auto L
A18: =B18&"_"&C18 -> Kuressaare_Harjumaa Liinid Saaremaa | B18: Kuressaare | C18: Harjumaa Liinid Saaremaa
A19: =B19&"_"&C19 -> Läänemaa_M.K. Reis-X Haapsalu | B19: Läänemaa | C19: M.K. Reis-X Haapsalu
A20: =B20&"_"&C20 -> Lääne-Virumaa_GoBus Rakvere | B20: Lääne-Virumaa | C20: GoBus Rakvere
A21: =B21&"_"&C21 -> Maardu_Temptrans AS | B21: Maardu | C21: Temptrans AS | D21: 10035301 | E21: 74114 | F21: Kroodi tn 8 | G21: Maardu
A22: =B22&"_"&C22 -> Maardu-Tallinn_Temptrans AS | B22: Maardu-Tallinn | C22: Temptrans AS | D22: 10035301 | E22: 74114 | F22: Kroodi tn 8 | G22: Maardu
A23: =B23&"_"&C23 -> Narva_Narva Bussiveod | B23: Narva | C23: Narva Bussiveod
A24: =B24&"_"&C24 -> Narva-Jõesuu_Narva Bussiveod | B24: Narva-Jõesuu | C24: Narva Bussiveod
A25: =B25&"_"&C25 -> Paide_Atko Trans | B25: Paide | C25: Atko Trans
A26: =B26&"_"&C26 -> Põltsamaa_Eltor | B26: Põltsamaa | C26: Eltor
A27: =B27&"_"&C27 -> Põlva_Harjumaa Liinid Põlva | B27: Põlva | C27: Harjumaa Liinid Põlva
A28: =B28&"_"&C28 -> Põlva maakond_Harjumaa Liinid Põlva | B28: Põlva maakond | C28: Harjumaa Liinid Põlva
A29: =B29&"_"&C29 -> Pärnu_GoBus Pärnu | B29: Pärnu | C29: GoBus Pärnu
A30: =B30&"_"&C30 -> Pärnu maakond_M.K. Reis-X Pärnu | B30: Pärnu maakond | C30: M.K. Reis-X Pärnu
A31: =B31&"_"&C31 -> Pärnu maakond_Mulgi Reisid | B31: Pärnu maakond | C31: Mulgi Reisid | D31: 10122514 | E31: 71720 | F31: Pargi tn 5A | G31: Viljandi
A32: =B32&"_"&C32 -> Pärnu-Tallinn_GoBus Pärnu | B32: Pärnu-Tallinn | C32: GoBus Pärnu
A33: =B33&"_"&C33 -> Pärnu-Tartu_GoBus Pärnu | B33: Pärnu-Tartu | C33: GoBus Pärnu
A34: =B34&"_"&C34 -> Rakvere_M.K. Reis-X | B34: Rakvere | C34: M.K. Reis-X
A35: =B35&"_"&C35 -> Rapla_Rapla Bussipark | B35: Rapla | C35: Rapla Bussipark | D35: 11096842 | E35: 79513 | F35: Tallinna mnt 3 | G35: Rapla
A36: =B36&"_"&C36 -> Rapla maakond_Rapla Bussipark | B36: Rapla maakond | C36: Rapla Bussipark | D36: 11096842 | E36: 79513 | F36: Tallinna mnt 3 | G36: Rapla
A37: =B37&"_"&C37 -> Saaremaa_Harjumaa Liinid Saaremaa | B37: Saaremaa | C37: Harjumaa Liinid Saaremaa
A38: =B38&"_"&C38 -> Tallinn-Pärnu_Taisto Transport AS | B38: Tallinn-Pärnu | C38: Taisto Transport AS | D38: 10414949 | E38: 66405 | F38: Kollino küla Antsla vald | G38: Võrumaa
A39: =B39&"_"&C39 -> Tallinn-Riia_Hansabuss | B39: Tallinn-Riia | C39: Hansabuss
A40: =B40&"_"&C40 -> Tallinn-Tartu_Taisto Transport AS | B40: Tallinn-Tartu | C40: Taisto Transport AS | D40: 10414949 | E40: 66405 | F40: Kollino küla Antsla vald | G40: Võrumaa
...
