Workbook
Name andmed: [1]Y2_Andmetabel!$A$1:$G$47
Name andmed: Andmetabel!$A$1:$G$47
Name kamp_nimi: Sisestus_leht!$F$1
Name kood: [1]Y2_Andmetabel!$A$2:$A$47
Name kood: Andmetabel!$A$2:$A$47
Name lep_nr: Sisestus_leht!$F$2
Name Lepingu_nr: Sisestus_leht!$C$1
Name tasu: Sisestus_leht!$F$3

Sheet Sheet1
A1: Jrk nr | B1: Kirjeldus | C1: Kogus | D1: Arvekuupäev | E1: Hind | F1: Hind kokku (Ümardada 2 kohta peale koma) | G1: Soodustus
A2: 1 | B2: Pliiats | C2: 100 | D2: 45754 | E2: 10.23
A3: 2 | B3: Vihik | C3: 150 | D3: 45755 | E3: 1.12
A4: 3 | B4: Printer | C4: 1 | D4: 45756 | E4: 123.47
A5: 4 | B5: Hiir | C5: 125 | D5: 45757 | E5: 23.21
A6: 5 | B6: Hiirematt | C6: 125 | D6: 45758 | E6: 12.35
A7: 6 | B7: Kõlarid | C7: 3 | D7: 45759 | E7: 120.34
E8: Kokku:
C10: Kokkuvõte: | F10: Vajalikud andmed soodustuseks:
C11: Arveid välja saadetud: | F11: Soodustus: | G11: 0.08
C12: Arve Summa kokku 5 sendi täpsusega: | F12: Arve enne: | G12: 45757
C13: Kõige suurem arve summa: | F13: Summa üle: | G13: 500
C14: Kõige väikseim arve summa:
C15: Keskmine arve summa:
C16: Üle 50 € arveid esitati (mitmel korral):
C17: Enne 10.04.2025 (G12) esitatud arve summa kokku:
A20: 1. Arvekuupäev näita kujul N: 03.05.2025
A21: 2. Soodustus arvutada arvetele mis on esitatud enne 10.04.2025 ja arve summa on üle 50. Soodustus kehtib arve summast 8%

Sheet Weekday_red
A1: 46082
A4: =A1 -> 46082 | B4: =A4+1 -> 46083 | C4: =B4+1 -> 46084 | D4: =C4+1 -> 46085 | E4: =D4+1 -> 46086 | F4: =E4+1 -> 46087 | G4: =F4+1 -> 46088 | H4: =G4+1 -> 46089 | I4: =H4+1 -> 46090 | ... R4: =Q4+1 -> 46099
A5: 1 | B5: 2 | C5: 3 | D5: 4 | E5: 5 | F5: 6 | G5: 7 | H5: 8 | I5: 9 | J5: 10 | K5: 11 | L5: 12 | M5: 13 | N5: 14 | O5: 15 | P5: 16 | Q5: 17 | R5: 18
A6: 1 | B6: 2 | C6: 3 | D6: 4 | E6: 5 | F6: 6 | G6: 7 | H6: 8 | I6: 9 | J6: 10 | K6: 11 | L6: 12 | M6: 13 | N6: 14 | O6: 15 | P6: 16 | Q6: 17 | R6: 18
A7: 1 | B7: 2 | C7: 3 | D7: 4 | E7: 5 | F7: 6 | G7: 7 | H7: 8 | I7: 9 | J7: 10 | K7: 11 | L7: 12 | M7: 13 | N7: 14 | O7: 15 | P7: 16 | Q7: 17 | R7: 18
A8: 1 | B8: 2 | C8: 3 | D8: 4 | E8: 5 | F8: 6 | G8: 7 | H8: 8 | I8: 9 | J8: 10 | K8: 11 | L8: 12 | M8: 13 | N8: 14 | O8: 15 | P8: 16 | Q8: 17 | R8: 18
A9: 1 | B9: 2 | C9: 3 | D9: 4 | E9: 5 | F9: 6 | G9: 7 | H9: 8 | I9: 9 | J9: 10 | K9: 11 | L9: 12 | M9: 13 | N9: 14 | O9: 15 | P9: 16 | Q9: 17 | R9: 18
A10: 1 | B10: 2 | C10: 3 | D10: 4 | E10: 5 | F10: 6 | G10: 7 | H10: 8 | I10: 9 | J10: 10 | K10: 11 | L10: 12 | M10: 13 | N10: 14 | O10: 15 | P10: 16 | Q10: 17 | R10: 18
A11: 1 | B11: 2 | C11: 3 | D11: 4 | E11: 5 | F11: 6 | G11: 7 | H11: 8 | I11: 9 | J11: 10 | K11: 11 | L11: 12 | M11: 13 | N11: 14 | O11: 15 | P11: 16 | Q11: 17 | R11: 18
A12: 1 | B12: 2 | C12: 3 | D12: 4 | E12: 5 | F12: 6 | G12: 7 | H12: 8 | I12: 9 | J12: 10 | K12: 11 | L12: 12 | M12: 13 | N12: 14 | O12: 15 | P12: 16 | Q12: 17 | R12: 18
A13: 1 | B13: 2 | C13: 3 | D13: 4 | E13: 5 | F13: 6 | G13: 7 | H13: 8 | I13: 9 | J13: 10 | K13: 11 | L13: 12 | M13: 13 | N13: 14 | O13: 15 | P13: 16 | Q13: 17 | R13: 18
A14: 1 | B14: 2 | C14: 3 | D14: 4 | E14: 5 | F14: 6 | G14: 7 | H14: 8 | I14: 9 | J14: 10 | K14: 11 | L14: 12 | M14: 13 | N14: 14 | O14: 15 | P14: 16 | Q14: 17 | R14: 18
A15: 1 | B15: 2 | C15: 3 | D15: 4 | E15: 5 | F15: 6 | G15: 7 | H15: 8 | I15: 9 | J15: 10 | K15: 11 | L15: 12 | M15: 13 | N15: 14 | O15: 15 | P15: 16 | Q15: 17 | R15: 18
A16: 1 | B16: 2 | C16: 3 | D16: 4 | E16: 5 | F16: 6 | G16: 7 | H16: 8 | I16: 9 | J16: 10 | K16: 11 | L16: 12 | M16: 13 | N16: 14 | O16: 15 | P16: 16 | Q16: 17 | R16: 18
... A18: 1 | B18: 2 | C18: 3 | D18: 4 | E18: 5 | F18: 6 | G18: 7 | H18: 8 | I18: 9 | J18: 10 | K18: 11 | L18: 12 | M18: 13 | N18: 14 | O18: 15 | P18: 16 | Q18: 17 | R18: 18

Sheet hinnapakkumine
C3: Hinnapakkumine nr: | D3: =Sisestus_leht!C1 -> 51-EK12/119
C4: Tellija: | D4: =Sisestus_leht!C2 -> Omis OÜ | L4: Kuupäev: | M4: =TODAY() -> 46100
C5: Kontaktisik: | D5: =Sisestus_leht!C3 -> K.Irp | L5: Pakkumise koostas: | M5: P. UUK
C6: Reklaamija: | D6: =Sisestus_leht!C4 -> Firma 123 | L6: Telefon: | M6: 1234567
B8: tähis | C8: linn/maakond | D8: nädal | E8: kuupäevad | F8: nädalate arv | G8: kogus sõidukeid | H8: kogus kleebiseid | I8: hinnakirja hind | J8: soodustus % | K8: soodustuse summa | L8: kleebiste tootmine | M8: netto hind EUR
C9: =IFERROR(VLOOKUP(Sisestus_leht!B7,andmed,2,FALSE),0) -> 0 | D9: =IF(Sisestus_leht!C7="",0,Sisestus_leht!G7&"-"&Sisestus_leht!H7) -> 1-10 | E9: =IF(Sisestus_leht!C7="",0,TEXT(Sisestus_leht!C7,"dd.mm")&" - "&TEXT(Sisestus_leht!D7,"dd.mm.yyyy")) -> 01.01 - 03.03.2025 | F9: =Sisestus_leht!I7 -> 9 | G9: =Sisestus_leht!E7 -> 20 | H9: =G9*4 -> 80 | I9: =G9*60 -> 1200 | J9: =Sisestus_leht!F7 -> 30 | K9: =I9*J9% -> 360 | L9: =H9*1 -> 80 | M9: =I9-K9+L9 -> 920
C10: =IFERROR(VLOOKUP(Sisestus_leht!B8,andmed,2,FALSE),0) -> 0 | D10: =IF(Sisestus_leht!C8="",0,Sisestus_leht!G8&"-"&Sisestus_leht!H8) -> 0 | E10: =IF(Sisestus_leht!C8="",0,TEXT(Sisestus_leht!C8,"dd.mm")&" - "&TEXT(Sisestus_leht!D8,"dd.mm.yyyy")) -> 0 | F10: =Sisestus_leht!I8 -> 0 | G10: =Sisestus_leht!E8 -> 0 | H10: =G10*4 -> 0 | I10: =G10*60 -> 0 | J10: =Sisestus_leht!F8 -> 0 | K10: =I10*J10% -> 0 | L10: =H10*1 -> 0 | M10: =I10-K10+L10 -> 0
C11: =IFERROR(VLOOKUP(Sisestus_leht!B9,andmed,2,FALSE),0) -> 0 | D11: =IF(Sisestus_leht!C9="",0,Sisestus_leht!G9&"-"&Sisestus_leht!H9) -> 0 | E11: =IF(Sisestus_leht!C9="",0,TEXT(Sisestus_leht!C9,"dd.mm")&" - "&TEXT(Sisestus_leht!D9,"dd.mm.yyyy")) -> 0 | F11: =Sisestus_leht!I9 -> 0 | G11: =Sisestus_leht!E9 -> 0 | H11: =G11*4 -> 0 | I11: =G11*60 -> 0 | J11: =Sisestus_leht!F9 -> 0 | K11: =I11*J11% -> 0 | L11: =H11*1 -> 0 | M11: =I11-K11+L11 -> 0
C12: =IFERROR(VLOOKUP(Sisestus_leht!B10,andmed,2,FALSE),0) -> 0 | D12: =IF(Sisestus_leht!C10="",0,Sisestus_leht!G10&"-"&Sisestus_leht!H10) -> 0 | E12: =IF(Sisestus_leht!C10="",0,TEXT(Sisestus_leht!C10,"dd.mm")&" - "&TEXT(Sisestus_leht!D10,"dd.mm.yyyy")) -> 0 | F12: =Sisestus_leht!I10 -> 0 | G12: =Sisestus_leht!E10 -> 0 | H12: =G12*4 -> 0 | I12: =G12*60 -> 0 | J12: =Sisestus_leht!F10 -> 0 | K12: =I12*J12% -> 0 | L12: =H12*1 -> 0 | M12: =I12-K12+L12 -> 0
C13: =IFERROR(VLOOKUP(Sisestus_leht!B11,andmed,2,FALSE),0) -> 0 | D13: =IF(Sisestus_leht!C11="",0,Sisestus_leht!G11&"-"&Sisestus_leht!H11) -> 0 | E13: =IF(Sisestus_leht!C11="",0,TEXT(Sisestus_leht!C11,"dd.mm")&" - "&TEXT(Sisestus_leht!D11,"dd.mm.yyyy")) -> 0 | F13: =Sisestus_leht!I11 -> 0 | G13: =Sisestus_leht!E11 -> 0 | H13: =G13*4 -> 0 | I13: =G13*60 -> 0 | J13: =Sisestus_leht!F11 -> 0 | K13: =I13*J13% -> 0 | L13: =H13*1 -> 0 | M13: =I13-K13+L13 -> 0
G14: =SUM(G9:G13) -> 20 | H14: =SUM(H9:H13) -> 80 | I14: =SUM(I9:I13) -> 1200 | K14: =SUM(K9:K13) -> 360 | L14: =SUM(L9:L13) -> 80 | M14: =SUM(M9:M13) -> 920
L15: Hinnakirja hind | M15: =I14 -> 1200
L16: Kliendi soodustus | M16: =K14 -> 360
L17: Kleebiste tootmine | M17: =L14 -> 80
L18: HIND KOKKU | M18: =M15-M16+M17 -> 920
L19: Käibemaks 20% | M19: =M18*20% -> 184
L20: Hind koos käibemaksuga | M20: =SUM(M18:M19) -> 1104

Sheet Sisestus_leht
B1: Lepingu Nr | C1: 51-EK12/119 | E1: Kampaania nimi | F1: Reklaam 1
B2: Tellija: | C2: Omis OÜ | E2: Lepingu nr | F2: B012006
B3: Kontaktisik: | C3: K.Irp | E3: Tasu suurus | F3: 500
B4: Reklaamija: | C4: Firma 123
A6: Nr | B6: Kood | C6: Alguskuupäev | D6: Lõppkuupäev | E6: kogus sõidukeid | F6: Soodustuse% | G6: Algusnädal | H6: Lõpu nädal | I6: Nädalaid | J6: Vedaja | K6: Reg_kood | L6: Indeks | M6: Aadress | N6: Linn
A7: 1 | C7: 45658 | D7: 45719 | E7: 20 | F7: 30 | G7: =WEEKNUM(C7) -> 1 | H7: =WEEKNUM(D7) -> 10 | I7: =H7-G7 -> 9 | J7: =IFERROR(VLOOKUP($B7,andmed,MATCH(J$6,Andmetabel!$A$1:$G$1,0),FALSE),"") | K7: =IFERROR(VLOOKUP($B7,andmed,MATCH(K$6,Andmetabel!$A$1:$G$1,0),FALSE),"") | L7: =IFERROR(VLOOKUP($B7,andmed,MATCH(L$6,Andmetabel!$A$1:$G$1,0),FALSE),"") | M7: =IFERROR(VLOOKUP($B7,andmed,MATCH(M$6,Andmetabel!$A$1:$G$1,0),FALSE),"") | N7: =IFERROR(VLOOKUP($B7,andmed,MATCH(N$6,Andmetabel!$A$1:$G$1,0),FALSE),"")
A8: 2 | G8: =WEEKNUM(C8) -> 0 | H8: =WEEKNUM(D8) -> 0 | I8: =H8-G8 -> 0 | J8: =IFERROR(VLOOKUP($B8,andmed,MATCH(J$6,Andmetabel!$A$1:$G$1,0),FALSE),"") | K8: =IFERROR(VLOOKUP($B8,andmed,MATCH(K$6,Andmetabel!$A$1:$G$1,0),FALSE),"") | L8: =IFERROR(VLOOKUP($B8,andmed,MATCH(L$6,Andmetabel!$A$1:$G$1,0),FALSE),"") | M8: =IFERROR(VLOOKUP($B8,andmed,MATCH(M$6,Andmetabel!$A$1:$G$1,0),FALSE),"") | N8: =IFERROR(VLOOKUP($B8,andmed,MATCH(N$6,Andmetabel!$A$1:$G$1,0),FALSE),"")
A9: 3 | G9: =WEEKNUM(C9) -> 0 | H9: =WEEKNUM(D9) -> 0 | I9: =H9-G9 -> 0 | J9: =IFERROR(VLOOKUP($B9,andmed,MATCH(J$6,Andmetabel!$A$1:$G$1,0),FALSE),"") | K9: =IFERROR(VLOOKUP($B9,andmed,MATCH(K$6,Andmetabel!$A$1:$G$1,0),FALSE),"") | L9: =IFERROR(VLOOKUP($B9,andmed,MATCH(L$6,Andmetabel!$A$1:$G$1,0),FALSE),"") | M9: =IFERROR(VLOOKUP($B9,andmed,MATCH(M$6,Andmetabel!$A$1:$G$1,0),FALSE),"") | N9: =IFERROR(VLOOKUP($B9,andmed,MATCH(N$6,Andmetabel!$A$1:$G$1,0),FALSE),"")
A10: 4 | G10: =WEEKNUM(C10) -> 0 | H10: =WEEKNUM(D10) -> 0 | I10: =H10-G10 -> 0 | J10: =IFERROR(VLOOKUP($B10,andmed,MATCH(J$6,Andmetabel!$A$1:$G$1,0),FALSE),"") | K10: =IFERROR(VLOOKUP($B10,andmed,MATCH(K$6,Andmetabel!$A$1:$G$1,0),FALSE),"") | L10: =IFERROR(VLOOKUP($B10,andmed,MATCH(L$6,Andmetabel!$A$1:$G$1,0),FALSE),"") | M10: =IFERROR(VLOOKUP($B10,andmed,MATCH(M$6,Andmetabel!$A$1:$G$1,0),FALSE),"") | N10: =IFERROR(VLOOKUP($B10,andmed,MATCH(N$6,Andmetabel!$A$1:$G$1,0),FALSE),"")
A11: 5 | G11: =WEEKNUM(C11) -> 0 | H11: =WEEKNUM(D11) -> 0 | I11: =H11-G11 -> 0 | J11: =IFERROR(VLOOKUP($B11,andmed,MATCH(J$6,Andmetabel!$A$1:$G$1,0),FALSE),"") | K11: =IFERROR(VLOOKUP($B11,andmed,MATCH(K$6,Andmetabel!$A$1:$G$1,0),FALSE),"") | L11: =IFERROR(VLOOKUP($B11,andmed,MATCH(L$6,Andmetabel!$A$1:$G$1,0),FALSE),"") | M11: =IFERROR(VLOOKUP($B11,andmed,MATCH(M$6,Andmetabel!$A$1:$G$1,0),FALSE),"") | N11: =IFERROR(VLOOKUP($B11,andmed,MATCH(N$6,Andmetabel!$A$1:$G$1,0),FALSE),"")

Sheet Andmetabel
A1: Kood | B1: liin | C1: vedaja | D1: Reg_kood | E1: Indeks | F1: Aadress | G1: Linn
A2: =B2&"_"&C2 -> Haapsalu_M.K. Reis-X Haapsalu | B2: Haapsalu | C2: M.K. Reis-X Haapsalu
A3: =B3&"_"&C3 -> Haapsalu_Reisipaus | B3: Haapsalu | C3: Reisipaus | D3: 10897497 | E3: 44314 | F3: Fr. R. Kreutzwaldi 26B | G3: Rakvere
A4: =B4&"_"&C4 -> Harjumaa_Harjumaa Liinid | B4: Harjumaa | C4: Harjumaa Liinid
A5: =B5&"_"&C5 -> Harjumaa_Hansabuss | B5: Harjumaa | C5: Hansabuss
A6: =B6&"_"&C6 -> Harjumaa_Mulgi Reisid | B6: Harjumaa | C6: Mulgi Reisid | D6: 10122514 | E6: 71720 | F6: Pargi tn 5A | G6: Viljandi
A7: =B7&"_"&C7 -> Hiiumaa_Mulgi Reisid | B7: Hiiumaa | C7: Mulgi Reisid | D7: 10122514 | E7: 71720 | F7: Pargi tn 5A | G7: Viljandi
A8: =B8&"_"&C8 -> Ida-Virumaa_Narva Bussiveod | B8: Ida-Virumaa | C8: Narva Bussiveod | D8: 10247291 | E8: 21004 | F8: Kadastiku 51 | G8: Narva
A9: =B9&"_"&C9 -> Ida-Virumaa_Järve Bussipark | B9: Ida-Virumaa | C9: Järve Bussipark
A10: =B10&"_"&C10 -> Ida-Virumaa_Ekspress Auto L | B10: Ida-Virumaa | C10: Ekspress Auto L
A11: =B11&"_"&C11 -> Jõgeva_Eltor | B11: Jõgeva | C11: Eltor
A12: =B12&"_"&C12 -> Jõgeva maakond_Eltor | B12: Jõgeva maakond | C12: Eltor
A13: =B13&"_"&C13 -> Jõhvi_Järve Bussipark | B13: Jõhvi | C13: Järve Bussipark
A14: =B14&"_"&C14 -> Jõhvi_Ekspress Auto L | B14: Jõhvi | C14: Ekspress Auto L
A15: =B15&"_"&C15 -> Järvamaa_Atko Trans | B15: Järvamaa | C15: Atko Trans
A16: =B16&"_"&C16 -> K-Järve_Järve Bussipark | B16: K-Järve | C16: Järve Bussipark
A17: =B17&"_"&C17 -> K-Järve_Ekspress Auto L | B17: K-Järve | C17: Ekspress Auto L
A18: =B18&"_"&C18 -> Kuressaare_Harjumaa Liinid Saaremaa | B18: Kuressaare | C18: Harjumaa Liinid Saaremaa
A19: =B19&"_"&C19 -> Läänemaa_M.K. Reis-X Haapsalu | B19: Läänemaa | C19: M.K. Reis-X Haapsalu
A20: =B20&"_"&C20 -> Lääne-Virumaa_GoBus Rakvere | B20: Lääne-Virumaa | C20: GoBus Rakvere
A21: =B21&"_"&C21 -> Maardu_Temptrans AS | B21: Maardu | C21: Temptrans AS | D21: 10035301 | E21: 74114 | F21: Kroodi tn 8 | G21: Maardu
A22: =B22&"_"&C22 -> Maardu-Tallinn_Temptrans AS | B22: Maardu-Tallinn | C22: Temptrans AS | D22: 10035301 | E22: 74114 | F22: Kroodi tn 8 | G22: Maardu
A23: =B23&"_"&C23 -> Narva_Narva Bussiveod | B23: Narva | C23: Narva Bussiveod
A24: =B24&"_"&C24 -> Narva-Jõesuu_Narva Bussiveod | B24: Narva-Jõesuu | C24: Narva Bussiveod
A25: =B25&"_"&C25 -> Paide_Atko Trans | B25: Paide | C25: Atko Trans
A26: =B26&"_"&C26 -> Põltsamaa_Eltor | B26: Põltsamaa | C26: Eltor
A27: =B27&"_"&C27 -> Põlva_Harjumaa Liinid Põlva | B27: Põlva | C27: Harjumaa Liinid Põlva
A28: =B28&"_"&C28 -> Põlva maakond_Harjumaa Liinid Põlva | B28: Põlva maakond | C28: Harjumaa Liinid Põlva
A29: =B29&"_"&C29 -> Pärnu_GoBus Pärnu | B29: Pärnu | C29: GoBus Pärnu
A30: =B30&"_"&C30 -> Pärnu maakond_M.K. Reis-X Pärnu | B30: Pärnu maakond | C30: M.K. Reis-X Pärnu
A31: =B31&"_"&C31 -> Pärnu maakond_Mulgi Reisid | B31: Pärnu maakond | C31: Mulgi Reisid | D31: 10122514 | E31: 71720 | F31: Pargi tn 5A | G31: Viljandi
A32: =B32&"_"&C32 -> Pärnu-Tallinn_GoBus Pärnu | B32: Pärnu-Tallinn | C32: GoBus Pärnu
A33: =B33&"_"&C33 -> Pärnu-Tartu_GoBus Pärnu | B33: Pärnu-Tartu | C33: GoBus Pärnu
A34: =B34&"_"&C34 -> Rakvere_M.K. Reis-X | B34: Rakvere | C34: M.K. Reis-X
A35: =B35&"_"&C35 -> Rapla_Rapla Bussipark | B35: Rapla | C35: Rapla Bussipark | D35: 11096842 | E35: 79513 | F35: Tallinna mnt 3 | G35: Rapla
A36: =B36&"_"&C36 -> Rapla maakond_Rapla Bussipark | B36: Rapla maakond | C36: Rapla Bussipark | D36: 11096842 | E36: 79513 | F36: Tallinna mnt 3 | G36: Rapla
A37: =B37&"_"&C37 -> Saaremaa_Harjumaa Liinid Saaremaa | B37: Saaremaa | C37: Harjumaa Liinid Saaremaa
A38: =B38&"_"&C38 -> Tallinn-Pärnu_Taisto Transport AS | B38: Tallinn-Pärnu | C38: Taisto Transport AS | D38: 10414949 | E38: 66405 | F38: Kollino küla Antsla vald | G38: Võrumaa
A39: =B39&"_"&C39 -> Tallinn-Riia_Hansabuss | B39: Tallinn-Riia | C39: Hansabuss
A40: =B40&"_"&C40 -> Tallinn-Tartu_Taisto Transport AS | B40: Tallinn-Tartu | C40: Taisto Transport AS | D40: 10414949 | E40: 66405 | F40: Kollino küla Antsla vald | G40: Võrumaa
A41: =B41&"_"&C41 -> Tartu maakond_Tarbus | B41: Tartu maakond | C41: Tarbus | D41: 11980823 | E41: 50105 | F41: Ringtee 25 | G41: Tartu
A42: =B42&"_"&C42 -> Türi_Atko Trans | B42: Türi | C42: Atko Trans
A43: =B43&"_"&C43 -> Valga_Atko Trans Valga | B43: Valga | C43: Atko Trans Valga
A44: =B44&"_"&C44 -> Valga maakond_Atko Trans Valga | B44: Valga maakond | C44: Atko Trans Valga
A45: =B45&"_"&C45 -> Viljandi_MTG Viljandi | B45: Viljandi | C45: MTG Viljandi | D45: 10528989 | E45: 71720 | F45: Pargi tn 5B | G45: Viljandi
A46: =B46&"_"&C46 -> Viljandi maakond_MTG Viljandi | B46: Viljandi maakond | C46: MTG Viljandi | D46: 10528989 | E46: 71720 | F46: Pargi tn 5B | G46: Viljandi
A47: =B47&"_"&C47 -> Viljandi maakond_Mulgi Reisid | B47: Viljandi maakond | C47: Mulgi Reisid | D47: 10122514 | E47: 71720 | F47: Pargi tn 5A | G47: Viljandi

Sheet Yazzy
D1: mees 1 | E1: mees 2 | F1: mees 3 | G1: mees 4 | H1: mees 5 | I1: mees 6
C2: 1
C3: 2
C4: 3
C5: 4
C6: 5
C7: 6
C8: Seis | D8: =IF(D2="",0,IF(D2=0,-3,IF(D2=1,-2,IF(D2=2,-1,IF(D2=3,0,IF(D2=4,1,2))))))+IF(D3="",0,IF(D3=0,-6,IF(D3=1,-4,IF(D3=2,-2,IF(D3=3,0,IF(D3=4,2,4))))))+IF(D4="",0,IF(D4=0,-9,IF(D4=1,-6,IF(D4=2,-3,IF(D4=3,0,IF(D4=4,3,6))))))+IF(D5="",0,IF(D5=0,-12,IF(D5=1,-8,IF(D5=2,-4,IF(D5=3,0,IF(D5=4,4,8))))))+IF(D6="",0,IF(D6=0,-15,IF(D6=1,-10,IF(D6=2,-5,IF(D6=3,0,IF(D6=4,5,10))))))+IF(D7="",0,IF(D7=0,-18,IF(D7=1,-12,IF(D7=2,-6,IF(D7=3,0,IF(D7=4,6,12)))))) -> 0 | E8: =IF(E2="",0,IF(E2=0,-3,IF(E2=1,-2,IF(E2=2,-1,IF(E2=3,0,IF(E2=4,1,2))))))+IF(E3="",0,IF(E3=0,-6,IF(E3=1,-4,IF(E3=2,-2,IF(E3=3,0,IF(E3=4,2,4))))))+IF(E4="",0,IF(E4=0,-9,IF(E4=1,-6,IF(E4=2,-3,IF(E4=3,0,IF(E4=4,3,6))))))+IF(E5="",0,IF(E5=0,-12,IF(E5=1,-8,IF(E5=2,-4,IF(E5=3,0,IF(E5=4,4,8))))))+IF(E6="",0,IF(E6=0,-15,IF(E6=1,-10,IF(E6=2,-5,IF(E6=3,0,IF(E6=4,5,10))))))+IF(E7="",0,IF(E7=0,-18,IF(E7=1,-12,IF(E7=2,-6,IF(E7=3,0,IF(E7=4,6,12)))))) -> 0 | F8: =IF(F2="",0,IF(F2=0,-3,IF(F2=1,-2,IF(F2=2,-1,IF(F2=3,0,IF(F2=4,1,2))))))+IF(F3="",0,IF(F3=0,-6,IF(F3=1,-4,IF(F3=2,-2,IF(F3=3,0,IF(F3=4,2,4))))))+IF(F4="",0,IF(F4=0,-9,IF(F4=1,-6,IF(F4=2,-3,IF(F4=3,0,IF(F4=4,3,6))))))+IF(F5="",0,IF(F5=0,-12,IF(F5=1,-8,IF(F5=2,-4,IF(F5=3,0,IF(F5=4,4,8))))))+IF(F6="",0,IF(F6=0,-15,IF(F6=1,-10,IF(F6=2,-5,IF(F6=3,0,IF(F6=4,5,10))))))+IF(F7="",0,IF(F7=0,-18,IF(F7=1,-12,IF(F7=2,-6,IF(F7=3,0,IF(F7=4,6,12)))))) -> 0 | G8: =IF(G2="",0,IF(G2=0,-3,IF(G2=1,-2,IF(G2=2,-1,IF(G2=3,0,IF(G2=4,1,2))))))+IF(G3="",0,IF(G3=0,-6,IF(G3=1,-4,IF(G3=2,-2,IF(G3=3,0,IF(G3=4,2,4))))))+IF(G4="",0,IF(G4=0,-9,IF(G4=1,-6,IF(G4=2,-3,IF(G4=3,0,IF(G4=4,3,6))))))+IF(G5="",0,IF(G5=0,-12,IF(G5=1,-8,IF(G5=2,-4,IF(G5=3,0,IF(G5=4,4,8))))))+IF(G6="",0,IF(G6=0,-15,IF(G6=1,-10,IF(G6=2,-5,IF(G6=3,0,IF(G6=4,5,10))))))+IF(G7="",0,IF(G7=0,-18,IF(G7=1,-12,IF(G7=2,-6,IF(G7=3,0,IF(G7=4,6,12)))))) -> 0 | H8: =IF(H2="",0,IF(H2=0,-3,IF(H2=1,-2,IF(H2=2,-1,IF(H2=3,0,IF(H2=4,1,2))))))+IF(H3="",0,IF(H3=0,-6,IF(H3=1,-4,IF(H3=2,-2,IF(H3=3,0,IF(H3=4,2,4))))))+IF(H4="",0,IF(H4=0,-9,IF(H4=1,-6,IF(H4=2,-3,IF(H4=3,0,IF(H4=4,3,6))))))+IF(H5="",0,IF(H5=0,-12,IF(H5=1,-8,IF(H5=2,-4,IF(H5=3,0,IF(H5=4,4,8))))))+IF(H6="",0,IF(H6=0,-15,IF(H6=1,-10,IF(H6=2,-5,IF(H6=3,0,IF(H6=4,5,10))))))+IF(H7="",0,IF(H7=0,-18,IF(H7=1,-12,IF(H7=2,-6,IF(H7=3,0,IF(H7=4,6,12)))))) -> 0 | I8: =IF(I2="",0,IF(I2=0,-3,IF(I2=1,-2,IF(I2=2,-1,IF(I2=3,0,IF(I2=4,1,2))))))+IF(I3="",0,IF(I3=0,-6,IF(I3=1,-4,IF(I3=2,-2,IF(I3=3,0,IF(I3=4,2,4))))))+IF(I4="",0,IF(I4=0,-9,IF(I4=1,-6,IF(I4=2,-3,IF(I4=3,0,IF(I4=4,3,6))))))+IF(I5="",0,IF(I5=0,-12,IF(I5=1,-8,IF(I5=2,-4,IF(I5=3,0,IF(I5=4,4,8))))))+IF(I6="",0,IF(I6=0,-15,IF(I6=1,-10,IF(I6=2,-5,IF(I6=3,0,IF(I6=4,5,10))))))+IF(I7="",0,IF(I7=0,-18,IF(I7=1,-12,IF(I7=2,-6,IF(I7=3,0,IF(I7=4,6,12)))))) -> 0
C9: Preemia | D9: =IF((D2*$C$2+$C$3*D3+$C$4*D4+$C$5*D5+$C$6*D6+$C$7*D7)>=63,50,0) -> 0 | E9: =IF((E2*$C$2+$C$3*E3+$C$4*E4+$C$5*E5+$C$6*E6+$C$7*E7)>=63,50,0) -> 0 | F9: =IF((F2*$C$2+$C$3*F3+$C$4*F4+$C$5*F5+$C$6*F6+$C$7*F7)>=63,50,0) -> 0 | G9: =IF((G2*$C$2+$C$3*G3+$C$4*G4+$C$5*G5+$C$6*G6+$C$7*G7)>=63,50,0) -> 0 | H9: =IF((H2*$C$2+$C$3*H3+$C$4*H4+$C$5*H5+$C$6*H6+$C$7*H7)>=63,50,0) -> 0 | I9: =IF((I2*$C$2+$C$3*I3+$C$4*I4+$C$5*I5+$C$6*I6+$C$7*I7)>=63,50,0) -> 0
C10: Kokku | D10: =D2*$C$2+$C$3*D3+$C$4*D4+$C$5*D5+$C$6*D6+$C$7*D7+D9 -> 0 | E10: =E2*$C$2+$C$3*E3+$C$4*E4+$C$5*E5+$C$6*E6+$C$7*E7+E9 -> 0 | F10: =F2*$C$2+$C$3*F3+$C$4*F4+$C$5*F5+$C$6*F6+$C$7*F7+F9 -> 0 | G10: =G2*$C$2+$C$3*G3+$C$4*G4+$C$5*G5+$C$6*G6+$C$7*G7+G9 -> 0 | H10: =H2*$C$2+$C$3*H3+$C$4*H4+$C$5*H5+$C$6*H6+$C$7*H7+H9 -> 0 | I10: =I2*$C$2+$C$3*I3+$C$4*I4+$C$5*I5+$C$6*I6+$C$7*I7+I9 -> 0
C12: Paar
C13: 2 Paari
C14: 3-ik
C15: 4-ik
C16: Väike Rivi
C17: Suur Rivi
C18: Maja
C19: Juhus
C20: Veenus
C21: Kokku | D21: =SUM(D12:D20) -> 0 | E21: =SUM(E12:E20) -> 0 | F21: =SUM(F12:F20) -> 0 | G21: =SUM(G12:G20) -> 0 | H21: =SUM(H12:H20) -> 0 | I21: =SUM(I12:I20) -> 0
C22: Tulemus | D22: =D10+D21 -> 0 | E22: =E10+E21 -> 0 | F22: =F10+F21 -> 0 | G22: =G10+G21 -> 0 | H22: =H10+H21 -> 0 | I22: =I10+I21 -> 0
