BEGIN:VCALENDAR
VERSION:2.0
PRODID:www.tlu.ee
X-PUBLISHED-TTL:P1W
BEGIN:VEVENT
UID:69ea2a4b4d646
DTSTART:20210129T110000Z
SEQUENCE:0
TRANSP:OPAQUE
DTEND:20210129T120000Z
SUMMARY:Virtual Internship Fair
CLASS:PUBLIC
DTSTAMP:20260423T171851Z
END:VEVENT
END:VCALENDAR