BEGIN:VCALENDAR
VERSION:2.0
PRODID:www.tlu.ee
X-PUBLISHED-TTL:P1W
BEGIN:VEVENT
UID:69e74e3dd1678
DTSTART:20200120T070000Z
SEQUENCE:0
TRANSP:OPAQUE
DTEND:20200122T110000Z
SUMMARY:Course \"Qualitative Data Analysis with NVivo\"
CLASS:PUBLIC
DTSTAMP:20260421T131525Z
END:VEVENT
END:VCALENDAR