BEGIN:VCALENDAR
VERSION:2.0
PRODID:www.tlu.ee
X-PUBLISHED-TTL:P1W
BEGIN:VEVENT
UID:69e766063a5d3
DTSTART:20200925T120000Z
SEQUENCE:0
TRANSP:OPAQUE
DTEND:20200925T130000Z
SUMMARY:Uurimislabori EDUSPACE avamine
CLASS:PUBLIC
DTSTAMP:20260421T145654Z
END:VEVENT
END:VCALENDAR