BEGIN:VCALENDAR
VERSION:2.0
PRODID:www.tlu.ee
X-PUBLISHED-TTL:P1W
BEGIN:VEVENT
UID:69ea2c1120da7
DTSTART:20210202T090000Z
SEQUENCE:0
TRANSP:OPAQUE
DTEND:20210202T120000Z
SUMMARY:Helen Poska   from the School of Natural Sciences and Health will d
 efend the doctoral thesis 
CLASS:PUBLIC
DTSTAMP:20260423T172625Z
END:VEVENT
END:VCALENDAR