BEGIN:VCALENDAR
VERSION:2.0
PRODID:www.tlu.ee
X-PUBLISHED-TTL:P1W
BEGIN:VEVENT
UID:69ea2a4b7fa40
DTSTART:20210208T120000Z
SEQUENCE:0
TRANSP:OPAQUE
DTEND:20210208T150000Z
SUMMARY:Katrin Soika   from the School of Educational Sciences will defend 
 the doctoral thesis 
CLASS:PUBLIC
DTSTAMP:20260423T171851Z
END:VEVENT
END:VCALENDAR