BEGIN:VCALENDAR
VERSION:2.0
PRODID:www.tlu.ee
X-PUBLISHED-TTL:P1W
BEGIN:VEVENT
UID:69ea29f8530b0
DTSTART:20210120T140000Z
SEQUENCE:0
TRANSP:OPAQUE
DTEND:20210120T150000Z
SUMMARY:“Ekspert eetris”: Rektorikandidaatide debatt Tõnu Viik\, Katri
 n Niglas
CLASS:PUBLIC
DTSTAMP:20260423T171728Z
END:VEVENT
END:VCALENDAR