BEGIN:VCALENDAR
VERSION:2.0
PRODID:www.tlu.ee
X-PUBLISHED-TTL:P1W
BEGIN:VEVENT
UID:69e73dd121d41
DTSTART:20210315T130000Z
SEQUENCE:0
TRANSP:OPAQUE
DTEND:20210315T150000Z
SUMMARY:IET avatud seminar „Not noisy enough? Patterns and determinants o
 f public opinion on education Policy in Estonia”
CLASS:PUBLIC
DTSTAMP:20260421T120521Z
END:VEVENT
END:VCALENDAR