BEGIN:VCALENDAR
VERSION:2.0
PRODID:www.tlu.ee
X-PUBLISHED-TTL:P1W
BEGIN:VEVENT
UID:69e9c035d6259
DTSTART:20210915T070000Z
SEQUENCE:0
TRANSP:OPAQUE
DTEND:20210916T140000Z
SUMMARY:Gendered Lives and Careers: Interrelations of Work and Family 
CLASS:PUBLIC
DTSTAMP:20260423T094613Z
END:VEVENT
END:VCALENDAR