BEGIN:VCALENDAR
VERSION:2.0
PRODID:www.tlu.ee
X-PUBLISHED-TTL:P1W
BEGIN:VEVENT
UID:69e9c0186f8fa
DTSTART:20210809T070000Z
SEQUENCE:0
TRANSP:OPAQUE
DTEND:20210811T120000Z
SUMMARY:Tule välistudengite tuutoriks! 
CLASS:PUBLIC
DTSTAMP:20260423T094544Z
END:VEVENT
END:VCALENDAR