BEGIN:VCALENDAR
VERSION:2.0
PRODID:www.tlu.ee
X-PUBLISHED-TTL:P1W
BEGIN:VEVENT
UID:69e73dff9a6da
DTSTART:20211026T133000Z
SEQUENCE:0
TRANSP:OPAQUE
DTEND:20211026T153000Z
SUMMARY:Haridusteaduste instituudi MATIK teadusseminar
CLASS:PUBLIC
DTSTAMP:20260421T120607Z
END:VEVENT
END:VCALENDAR