BEGIN:VCALENDAR
VERSION:2.0
PRODID:www.tlu.ee
X-PUBLISHED-TTL:P1W
BEGIN:VEVENT
UID:69eb93bc41864
DTSTART:20221006T080000Z
SEQUENCE:0
TRANSP:OPAQUE
DTEND:20221007T130000Z
SUMMARY:International seminar “Translation and multilingualism in the his
 tory of translated literature”
CLASS:PUBLIC
DTSTAMP:20260424T190100Z
END:VEVENT
END:VCALENDAR