BEGIN:VCALENDAR
VERSION:2.0
PRODID:www.tlu.ee
X-PUBLISHED-TTL:P1W
BEGIN:VEVENT
UID:69e4e0c875da5
DTSTART:20221110T093000Z
SEQUENCE:0
TRANSP:OPAQUE
DTEND:20221111T104500Z
SUMMARY:LifeTrar konverents „Transitions to the adulthood and in the old 
 age among immigrant population”
CLASS:PUBLIC
DTSTAMP:20260419T170352Z
END:VEVENT
END:VCALENDAR