BEGIN:VCALENDAR
VERSION:2.0
PRODID:www.tlu.ee
X-PUBLISHED-TTL:P1W
BEGIN:VEVENT
UID:69e74e1c76f91
DTSTART:20240227T070000Z
SEQUENCE:0
TRANSP:OPAQUE
DTEND:20231128T140000Z
SUMMARY:Strengthening Democracy Through Education: Conceptual and Practical
  Perspectives
CLASS:PUBLIC
DTSTAMP:20260421T131452Z
END:VEVENT
END:VCALENDAR