BEGIN:VCALENDAR
VERSION:2.0
PRODID:www.tlu.ee
X-PUBLISHED-TTL:P1W
BEGIN:VEVENT
UID:69e52d611b07d
DTSTART:20231204T070000Z
SEQUENCE:0
TRANSP:OPAQUE
DTEND:20231204T124500Z
SUMMARY:Universal Jurisdiction and the Crime of Aggression: the Challenges 
 and Opportunities for JIT Member States 
CLASS:PUBLIC
DTSTAMP:20260419T223041Z
END:VEVENT
END:VCALENDAR