BEGIN:VCALENDAR
VERSION:2.0
PRODID:www.tlu.ee
X-PUBLISHED-TTL:P1W
BEGIN:VEVENT
UID:69e73a4ab3c6d
DTSTART:20240617T070000Z
SEQUENCE:0
TRANSP:OPAQUE
DTEND:20240617T100000Z
SUMMARY:Balti filmi\, meedia ja kunstide instituudi doktorandi Mart Sanderi
  doktoritöö kaitsmine
CLASS:PUBLIC
DTSTAMP:20260421T115018Z
END:VEVENT
END:VCALENDAR