BEGIN:VCALENDAR
VERSION:2.0
PRODID:www.tlu.ee
X-PUBLISHED-TTL:P1W
BEGIN:VEVENT
UID:69e73dd168033
DTSTART:20250611T070000Z
SEQUENCE:0
TRANSP:OPAQUE
DTEND:20250613T070000Z
SUMMARY:Joint Conference of NASS and the Annual Lotman Days: \"Creativity 
 – Complexity – Intelligence\"
CLASS:PUBLIC
DTSTAMP:20260421T120521Z
END:VEVENT
END:VCALENDAR