BEGIN:VCALENDAR
VERSION:2.0
PRODID:www.tlu.ee
X-PUBLISHED-TTL:P1W
BEGIN:VEVENT
UID:69e74e7c45e0e
DTSTART:20250203T160000Z
SEQUENCE:0
TRANSP:OPAQUE
DTEND:20250203T190000Z
SUMMARY:Humanitaarteaduste instituudi doktorant Alina Poklad doktoritöö k
 aitsmine
CLASS:PUBLIC
DTSTAMP:20260421T131628Z
END:VEVENT
END:VCALENDAR