BEGIN:VCALENDAR
VERSION:2.0
PRODID:www.tlu.ee
X-PUBLISHED-TTL:P1W
BEGIN:VEVENT
UID:69e7533684839
DTSTART:20250519T160000Z
SEQUENCE:0
TRANSP:OPAQUE
DTEND:20250519T181500Z
SUMMARY:Best of BFM: IKUMUMU eksperimentaalfilmid ja kohtumine autoritega
CLASS:PUBLIC
DTSTAMP:20260421T133638Z
END:VEVENT
END:VCALENDAR