BEGIN:VCALENDAR
VERSION:2.0
PRODID:www.tlu.ee
X-PUBLISHED-TTL:P1W
BEGIN:VEVENT
UID:69e73dd0c9114
DTSTART:20250909T150000Z
SEQUENCE:0
TRANSP:OPAQUE
DTEND:20250909T161500Z
SUMMARY:\"Värvilised unenäod\"
CLASS:PUBLIC
DTSTAMP:20260421T120520Z
END:VEVENT
END:VCALENDAR