BEGIN:VCALENDAR
VERSION:2.0
PRODID:www.tlu.ee
X-PUBLISHED-TTL:P1W
BEGIN:VEVENT
UID:69e73df7e8ca4
DTSTART:20251015T120000Z
SEQUENCE:0
TRANSP:OPAQUE
DTEND:20251017T101500Z
SUMMARY:8th GGP User Conference
CLASS:PUBLIC
DTSTAMP:20260421T120600Z
END:VEVENT
END:VCALENDAR