BEGIN:VCALENDAR
VERSION:2.0
PRODID:www.tlu.ee
X-PUBLISHED-TTL:P1W
BEGIN:VEVENT
UID:69e77d4a89241
DTSTART:20251204T140000Z
SEQUENCE:0
TRANSP:OPAQUE
DTEND:20251204T153000Z
SUMMARY:Public Lecture \"Memory Wars and the War on Palestinian Memory: 77 
 Years of the Ongoing Nakba\"
CLASS:PUBLIC
DTSTAMP:20260421T163610Z
END:VEVENT
END:VCALENDAR