BEGIN:VCALENDAR
VERSION:2.0
PRODID:www.tlu.ee
X-PUBLISHED-TTL:P1W
BEGIN:VEVENT
UID:69e73dfca87c2
DTSTART:20260512T130000Z
SEQUENCE:0
TRANSP:OPAQUE
DTEND:20260512T143000Z
SUMMARY:TÜHI Research Seminar
CLASS:PUBLIC
DTSTAMP:20260421T120604Z
END:VEVENT
END:VCALENDAR