BEGIN:VCALENDAR
VERSION:2.0
PRODID:www.tlu.ee
X-PUBLISHED-TTL:P1W
BEGIN:VEVENT
UID:69e68fc21ceaf
DTSTART:20260501T070000Z
SEQUENCE:0
TRANSP:OPAQUE
DTEND:20260531T200000Z
SUMMARY:Liikumiskuu 2026
CLASS:PUBLIC
DTSTAMP:20260420T234242Z
END:VEVENT
END:VCALENDAR