BEGIN:VCALENDAR
VERSION:2.0
PRODID:www.tlu.ee
X-PUBLISHED-TTL:P1W
BEGIN:VEVENT
UID:69e608f99980f
DTSTART:20260428T150000Z
SEQUENCE:0
TRANSP:OPAQUE
DTEND:20260428T180000Z
SUMMARY:Teaduskohvik \"Loovuurimus: tegelikkus ja väljamõeldis\"
CLASS:PUBLIC
DTSTAMP:20260420T140737Z
END:VEVENT
END:VCALENDAR