BEGIN:VCALENDAR
VERSION:2.0
PRODID:www.tlu.ee
X-PUBLISHED-TTL:P1W
BEGIN:VEVENT
UID:69e609287648e
DTSTART:20260423T131500Z
SEQUENCE:0
TRANSP:OPAQUE
DTEND:20260423T144500Z
SUMMARY:PhD Seminar: Anna Ivanova
CLASS:PUBLIC
DTSTAMP:20260420T140824Z
END:VEVENT
END:VCALENDAR