BEGIN:VCALENDAR
VERSION:2.0
PRODID:www.tlu.ee
X-PUBLISHED-TTL:P1W
BEGIN:VEVENT
UID:69e825a90e922
DTSTART:20260528T070000Z
SEQUENCE:0
TRANSP:OPAQUE
DTEND:20260528T090000Z
SUMMARY:Fookusgrupi töötuba: jätkusuutlikud ülikoolid ja rohepöörde k
 ompetentsid
CLASS:PUBLIC
DTSTAMP:20260422T043433Z
END:VEVENT
END:VCALENDAR