BEGIN:VCALENDAR
VERSION:2.0
PRODID:www.tlu.ee
X-PUBLISHED-TTL:P1W
BEGIN:VEVENT
UID:69ea58778bd9c
DTSTART:20260429T110000Z
SEQUENCE:0
TRANSP:OPAQUE
DTEND:20260429T123000Z
SUMMARY:Fuit Seminar: David Ramiro Troitiño\, Taltech
CLASS:PUBLIC
DTSTAMP:20260423T203551Z
END:VEVENT
END:VCALENDAR