BEGIN:VCALENDAR
VERSION:2.0
PRODID:www.tlu.ee
X-PUBLISHED-TTL:P1W
BEGIN:VEVENT
UID:69e631a402610
DTSTART:20081127T120000Z
SEQUENCE:0
TRANSP:OPAQUE
DTEND:20081127T120000Z
SUMMARY:First Screening in Estonia: \"On  the Road with Maruch\" by Florian
  Walker
CLASS:PUBLIC
DTSTAMP:20260420T170108Z
END:VEVENT
END:VCALENDAR