BEGIN:VCALENDAR
VERSION:2.0
PRODID:www.tlu.ee
X-PUBLISHED-TTL:P1W
BEGIN:VEVENT
UID:69ea3ba18be7d
DTSTART:20101020T120000Z
SEQUENCE:0
TRANSP:OPAQUE
DTEND:20101020T120000Z
SUMMARY:Studia Generalia: Alexander Horstmann
CLASS:PUBLIC
DTSTAMP:20260423T183249Z
END:VEVENT
END:VCALENDAR