BEGIN:VCALENDAR
VERSION:2.0
PRODID:www.tlu.ee
X-PUBLISHED-TTL:P1W
BEGIN:VEVENT
UID:69ece5c635201
DTSTART:20111206T120000Z
SEQUENCE:0
TRANSP:OPAQUE
DTEND:20111206T120000Z
SUMMARY:Public Lecture by Professor Keith Devlin
CLASS:PUBLIC
DTSTAMP:20260425T190318Z
END:VEVENT
END:VCALENDAR