BEGIN:VCALENDAR
VERSION:2.0
PRODID:www.tlu.ee
X-PUBLISHED-TTL:P1W
BEGIN:VEVENT
UID:69e73dd02174a
DTSTART:20121205T120000Z
SEQUENCE:0
TRANSP:OPAQUE
DTEND:20121205T120000Z
SUMMARY:Seminar Series \"Inimkond/Humankind\" Presents Richard Cadell
CLASS:PUBLIC
DTSTAMP:20260421T120520Z
END:VEVENT
END:VCALENDAR