BEGIN:VCALENDAR
VERSION:2.0
PRODID:www.tlu.ee
X-PUBLISHED-TTL:P1W
BEGIN:VEVENT
UID:69ea3f661dc50
DTSTART:20170829T030000Z
SEQUENCE:0
TRANSP:OPAQUE
DTEND:20170829T053000Z
SUMMARY:ELUstorm                                                           
  
CLASS:PUBLIC
DTSTAMP:20260423T184854Z
END:VEVENT
END:VCALENDAR