BEGIN:VCALENDAR
VERSION:2.0
PRODID:www.tlu.ee
X-PUBLISHED-TTL:P1W
BEGIN:VEVENT
UID:69e7519328e7e
DTSTART:20180212T100000Z
SEQUENCE:0
TRANSP:OPAQUE
DTEND:20180219T060000Z
SUMMARY:What sounds do lines do\, if the run? – IKUMUMU exhibition-instal
 lation          
CLASS:PUBLIC
DTSTAMP:20260421T132939Z
END:VEVENT
END:VCALENDAR