BEGIN:VCALENDAR
VERSION:2.0
PRODID:www.tlu.ee
X-PUBLISHED-TTL:P1W
BEGIN:VEVENT
UID:69e7a534aa85d
DTSTART:20181214T080000Z
SEQUENCE:0
TRANSP:OPAQUE
DTEND:20181214T180000Z
SUMMARY:Tallinn University 5th Winter School of International Relations: Re
 flections on Our Past\, Envisioning the Future
CLASS:PUBLIC
DTSTAMP:20260421T192628Z
END:VEVENT
END:VCALENDAR