BEGIN:VCALENDAR
VERSION:2.0
PRODID:www.tlu.ee
X-PUBLISHED-TTL:P1W
BEGIN:VEVENT
UID:69e763f770412
DTSTART:20190408T071500Z
SEQUENCE:0
TRANSP:OPAQUE
DTEND:20190408T090000Z
SUMMARY:Avalik loeng ja arutelu VÄÄRINFOST valimiste kontekstis
CLASS:PUBLIC
DTSTAMP:20260421T144807Z
END:VEVENT
END:VCALENDAR