BEGIN:VCALENDAR
VERSION:2.0
PRODID:www.tlu.ee
X-PUBLISHED-TTL:P1W
BEGIN:VEVENT
UID:69e7516aa1b4d
DTSTART:20191029T080000Z
SEQUENCE:0
TRANSP:OPAQUE
DTEND:20191029T133000Z
SUMMARY:Konverents \"Pilk hallile alale. Vananemine elukaare vaates\"
CLASS:PUBLIC
DTSTAMP:20260421T132858Z
END:VEVENT
END:VCALENDAR