BEGIN:VCALENDAR
VERSION:2.0
PRODID:www.tlu.ee
X-PUBLISHED-TTL:P1W
BEGIN:VEVENT
UID:69e765f30a4c3
DTSTART:20190927T070000Z
SEQUENCE:0
TRANSP:OPAQUE
DTEND:20190927T110000Z
SUMMARY:Teadlaste Öö Festivali projektipäev \"Saladuslik saar\" (Grupp o
 n täitunud)
CLASS:PUBLIC
DTSTAMP:20260421T145635Z
END:VEVENT
END:VCALENDAR