BEGIN:VCALENDAR
VERSION:2.0
PRODID:www.tlu.ee
X-PUBLISHED-TTL:P1W
BEGIN:VEVENT
UID:69e765f1d038b
DTSTART:20190927T080000Z
SEQUENCE:0
TRANSP:OPAQUE
DTEND:20190927T093000Z
SUMMARY:Teadlaste Öö Festivali töötuba \"Teadus sotsiaalmeedias\" (Grup
 p on täitunud)
CLASS:PUBLIC
DTSTAMP:20260421T145633Z
END:VEVENT
END:VCALENDAR