BEGIN:VCALENDAR
VERSION:2.0
PRODID:www.tlu.ee
X-PUBLISHED-TTL:P1W
BEGIN:VEVENT
UID:69e7516b1b07c
DTSTART:20190924T070000Z
SEQUENCE:0
TRANSP:OPAQUE
DTEND:20190924T080000Z
SUMMARY:Teadlaste Öö Festivali \"Teaduslaborite ringkäik\" (Grupp on tä
 itunud)
CLASS:PUBLIC
DTSTAMP:20260421T132859Z
END:VEVENT
END:VCALENDAR