BEGIN:VCALENDAR
VERSION:2.0
PRODID:www.tlu.ee
X-PUBLISHED-TTL:P1W
BEGIN:VEVENT
UID:69e763f729f02
DTSTART:20190925T070000Z
SEQUENCE:0
TRANSP:OPAQUE
DTEND:20190925T080000Z
SUMMARY:Teadlaste Öö Festivali \"Teaduslaborite ringkäik\" (Grupp on tä
 itunud)
CLASS:PUBLIC
DTSTAMP:20260421T144807Z
END:VEVENT
END:VCALENDAR