BEGIN:VCALENDAR
VERSION:2.0
PRODID:www.tlu.ee
X-PUBLISHED-TTL:P1W
BEGIN:VEVENT
UID:69e7513bc6785
DTSTART:20190926T140000Z
SEQUENCE:0
TRANSP:OPAQUE
DTEND:20190926T150000Z
SUMMARY:Teadlaste Öö Festivali (TÖF) loeng ning eksperimendid \"Kuidas t
 unda ära kahtlusalust ja kuulda olematuid helisid?\" 
CLASS:PUBLIC
DTSTAMP:20260421T132811Z
END:VEVENT
END:VCALENDAR