BEGIN:VCALENDAR
VERSION:2.0
PRODID:www.tlu.ee
X-PUBLISHED-TTL:P1W
BEGIN:VEVENT
UID:69e765dd26bf1
DTSTART:20190926T073000Z
SEQUENCE:0
TRANSP:OPAQUE
DTEND:20190926T121500Z
SUMMARY:Teadlaste Öö Festivali (TÖF) meeleolukas õppepäev Eesti Pedago
 ogika Arhiivmuuseumis
CLASS:PUBLIC
DTSTAMP:20260421T145613Z
END:VEVENT
END:VCALENDAR