BEGIN:VCALENDAR
VERSION:2.0
PRODID:www.tlu.ee
X-PUBLISHED-TTL:P1W
BEGIN:VEVENT
UID:69e74e1a1791f
DTSTART:20190923T070000Z
SEQUENCE:0
TRANSP:OPAQUE
DTEND:20190923T110000Z
SUMMARY:Teadlaste Öö Festivali (TÖF) töötuba “Teadlasena põhikooli 
 robomatemaatika tunnis koostöist õppimist uurimas”
CLASS:PUBLIC
DTSTAMP:20260421T131450Z
END:VEVENT
END:VCALENDAR