BEGIN:VCALENDAR
VERSION:2.0
PRODID:www.tlu.ee
X-PUBLISHED-TTL:P1W
BEGIN:VEVENT
UID:69e765ddc022c
DTSTART:20190924T120000Z
SEQUENCE:0
TRANSP:OPAQUE
DTEND:20190924T130000Z
SUMMARY:Uue EDUSPACE tehnoloogiaga toetatud õpetamise ja õppimise labori 
 tutvustus Teadlaste Öö Festivalil (TÖF)
CLASS:PUBLIC
DTSTAMP:20260421T145613Z
END:VEVENT
END:VCALENDAR