BEGIN:VCALENDAR
VERSION:2.0
PRODID:www.tlu.ee
X-PUBLISHED-TTL:P1W
BEGIN:VEVENT
UID:69e765dcea097
DTSTART:20190924T080000Z
SEQUENCE:0
TRANSP:OPAQUE
DTEND:20190924T090000Z
SUMMARY:Teadlaste Öö Festivali (TÖF) töötuba \"Kuidas loodus meid hoia
 b?\"
CLASS:PUBLIC
DTSTAMP:20260421T145612Z
END:VEVENT
END:VCALENDAR