BEGIN:VCALENDAR
VERSION:2.0
PRODID:www.tlu.ee
X-PUBLISHED-TTL:P1W
BEGIN:VEVENT
UID:69e751386bc6d
DTSTART:20190923T070000Z
SEQUENCE:0
TRANSP:OPAQUE
DTEND:20190927T110000Z
SUMMARY:TÖFi Tallinna Ülikooli teadusnädal 23.–27. septembrini 2019
CLASS:PUBLIC
DTSTAMP:20260421T132808Z
END:VEVENT
END:VCALENDAR